BEGIN:VCALENDAR
VERSION:2.0
PRODID:-//UW Stroum Center for Jewish Studies - ECPv6.15.17.1//NONSGML v1.0//EN
CALSCALE:GREGORIAN
METHOD:PUBLISH
X-ORIGINAL-URL:https://jewishstudies.washington.edu
X-WR-CALDESC:Events for UW Stroum Center for Jewish Studies
REFRESH-INTERVAL;VALUE=DURATION:PT1H
X-Robots-Tag:noindex
X-PUBLISHED-TTL:PT1H
BEGIN:VTIMEZONE
TZID:America/Los_Angeles
BEGIN:DAYLIGHT
TZOFFSETFROM:-0800
TZOFFSETTO:-0700
TZNAME:PDT
DTSTART:20220313T100000
END:DAYLIGHT
BEGIN:STANDARD
TZOFFSETFROM:-0700
TZOFFSETTO:-0800
TZNAME:PST
DTSTART:20221106T090000
END:STANDARD
BEGIN:DAYLIGHT
TZOFFSETFROM:-0800
TZOFFSETTO:-0700
TZNAME:PDT
DTSTART:20230312T100000
END:DAYLIGHT
BEGIN:STANDARD
TZOFFSETFROM:-0700
TZOFFSETTO:-0800
TZNAME:PST
DTSTART:20231105T090000
END:STANDARD
BEGIN:DAYLIGHT
TZOFFSETFROM:-0800
TZOFFSETTO:-0700
TZNAME:PDT
DTSTART:20240310T100000
END:DAYLIGHT
BEGIN:STANDARD
TZOFFSETFROM:-0700
TZOFFSETTO:-0800
TZNAME:PST
DTSTART:20241103T090000
END:STANDARD
END:VTIMEZONE
BEGIN:VEVENT
DTSTART;TZID=America/Los_Angeles:20230502T190000
DTEND;TZID=America/Los_Angeles:20230502T203000
DTSTAMP:20260423T061057
CREATED:20230225T005309Z
LAST-MODIFIED:20230720T230254Z
UID:40817-1683054000-1683059400@jewishstudies.washington.edu
SUMMARY:5/2 STROUM LECTURE | "Melodeklamatsiye": A Yiddish Performance Genre ?
DESCRIPTION:
URL:https://www.youtube.com/watch?v=x0SYoi6rzWo&#038;list=PL90oKJgqWC2aPPrKo70l0kj0I0ZYDncHa&#038;index=4
LOCATION:Kane Hall 220\, 4069 Spokane Ln\, Seattle\, WA\, 98195\, US
CATEGORIES:Academic Lectures,Arts & Culture
ATTACH;FMTTYPE=image/png:https://jewishstudies.washington.edu/wp-content/uploads/2023/03/hi-res-landing-event-page.png
END:VEVENT
BEGIN:VEVENT
DTSTART;TZID=America/Los_Angeles:20230504T190000
DTEND;TZID=America/Los_Angeles:20230504T203000
DTSTAMP:20260423T061057
CREATED:20230123T235816Z
LAST-MODIFIED:20230720T230308Z
UID:40877-1683226800-1683232200@jewishstudies.washington.edu
SUMMARY:5/4 STROUM LECTURE | "Between Me and the Other World"\, an Immersive Music Experience
DESCRIPTION:
URL:https://www.youtube.com/watch?v=j7vrv1qEDeI&#038;list=PL90oKJgqWC2aPPrKo70l0kj0I0ZYDncHa&#038;index=2
LOCATION:Kane Hall 225\, UW Campus
CATEGORIES:Academic Lectures,Arts & Culture
ATTACH;FMTTYPE=image/png:https://jewishstudies.washington.edu/wp-content/uploads/2023/02/Anthony-Russell-Trio-Events-Main-Page.png
END:VEVENT
END:VCALENDAR