BEGIN:VCALENDAR
VERSION:2.0
PRODID:-//UW Stroum Center for Jewish Studies - ECPv6.15.17.1//NONSGML v1.0//EN
CALSCALE:GREGORIAN
METHOD:PUBLISH
X-ORIGINAL-URL:https://jewishstudies.washington.edu
X-WR-CALDESC:Events for UW Stroum Center for Jewish Studies
REFRESH-INTERVAL;VALUE=DURATION:PT1H
X-Robots-Tag:noindex
X-PUBLISHED-TTL:PT1H
BEGIN:VTIMEZONE
TZID:America/Los_Angeles
BEGIN:DAYLIGHT
TZOFFSETFROM:-0800
TZOFFSETTO:-0700
TZNAME:PDT
DTSTART:20190310T100000
END:DAYLIGHT
BEGIN:STANDARD
TZOFFSETFROM:-0700
TZOFFSETTO:-0800
TZNAME:PST
DTSTART:20191103T090000
END:STANDARD
BEGIN:DAYLIGHT
TZOFFSETFROM:-0800
TZOFFSETTO:-0700
TZNAME:PDT
DTSTART:20200308T100000
END:DAYLIGHT
BEGIN:STANDARD
TZOFFSETFROM:-0700
TZOFFSETTO:-0800
TZNAME:PST
DTSTART:20201101T090000
END:STANDARD
BEGIN:DAYLIGHT
TZOFFSETFROM:-0800
TZOFFSETTO:-0700
TZNAME:PDT
DTSTART:20210314T100000
END:DAYLIGHT
BEGIN:STANDARD
TZOFFSETFROM:-0700
TZOFFSETTO:-0800
TZNAME:PST
DTSTART:20211107T090000
END:STANDARD
END:VTIMEZONE
BEGIN:VEVENT
DTSTART;TZID=America/Los_Angeles:20200601T113000
DTEND;TZID=America/Los_Angeles:20200601T130000
DTSTAMP:20260425T060440
CREATED:20200423T215250Z
LAST-MODIFIED:20200526T213759Z
UID:34165-1591011000-1591016400@jewishstudies.washington.edu
SUMMARY:6/1 COLLOQUIUM | Regional and Global Dimensions to Israeli Foreign Policy: Shifting Relationships with the Palestinian Territories\, Ghana\, and Taiwan
DESCRIPTION:University of Washington Jewish Studies graduate fellows Bret Windhauser\, Francis Abugbilla and Eryk Waligora offer perspectives on Israeli foreign policy. \nPresentation #1 — Bret Windhauser\, M.A. student\, Near Eastern Languages & Civilizations\n“Over and Under the Border: Goods Smuggling in Israel/Palestine” \nPresentation #2 — Francis Abugbilla\, Ph.D. candidate\, International Studies\n“Diplomacy at the Crossroads of Recognition and Development: Israel-Ghana Relations Explained” \nPresentation #3 — Eryk Waligora\, M.A. student\, International Studies\n“Unrecognized: How Israel and Taiwan are Forging New Soft Power Relations”
URL:https://jewishstudies.washington.edu/2020-jewish-studies-graduate-fellows-colloquia/#panel1
LOCATION:Zoom
CATEGORIES:Graduate Fellows
ATTACH;FMTTYPE=image/jpeg:https://jewishstudies.washington.edu/wp-content/uploads/2020/04/Asia-map-e1587678748790.jpg
ORGANIZER;CN="UW Stroum Center for Jewish Studies":MAILTO:jewishst@uw.edu
END:VEVENT
BEGIN:VEVENT
DTSTART;TZID=America/Los_Angeles:20200603T113000
DTEND;TZID=America/Los_Angeles:20200603T130000
DTSTAMP:20260425T060440
CREATED:20200423T234244Z
LAST-MODIFIED:20200602T172247Z
UID:34184-1591183800-1591189200@jewishstudies.washington.edu
SUMMARY:6/3 COLLOQUIUM | Violence\, Victimhood & the "Natural Order" in the Armenian Genocide & Holocaust
DESCRIPTION:Jewish Studies graduate fellows Oya Rose Aktas and Derek Wiebke discuss victim / perpetrator relationships in history and literature. \nPresentation #1 — Oya Rose Aktas\, Ph.D. student\, History\n“Beyond Victim and Perpetrator: Understanding the 1915 Genocide Through the Jewish Press Between the Liberal and National Orders” \nPresentation #2 — Derek Wiebke\, M.A. student\, Germanics\n“Between Victim and Perpetrator: Reading the Holocaust as Ecological Wound in Elfriede Jelinek’s ‘The Children of the Dead’”
URL:https://jewishstudies.washington.edu/2020-jewish-studies-graduate-fellows-colloquia/#panel2
LOCATION:Zoom
CATEGORIES:Graduate Fellows
ATTACH;FMTTYPE=image/jpeg:https://jewishstudies.washington.edu/wp-content/uploads/2020/04/Armenian-genocide.jpg
ORGANIZER;CN="UW Stroum Center for Jewish Studies":MAILTO:jewishst@uw.edu
END:VEVENT
BEGIN:VEVENT
DTSTART;TZID=America/Los_Angeles:20200605T113000
DTEND;TZID=America/Los_Angeles:20200605T130000
DTSTAMP:20260425T060440
CREATED:20200424T000307Z
LAST-MODIFIED:20200506T165049Z
UID:34188-1591356600-1591362000@jewishstudies.washington.edu
SUMMARY:6/5 COLLOQUIUM | Tracing Unruly Edges: Jewish Embodiment from Babylonia to the Mediterranean
DESCRIPTION:
URL:https://jewishstudies.washington.edu/2020-jewish-studies-graduate-fellows-colloquia/#panel3
LOCATION:Zoom
CATEGORIES:Graduate Fellows
ATTACH;FMTTYPE=image/jpeg:https://jewishstudies.washington.edu/wp-content/uploads/2020/04/Hagar-in-the-Desert-Chagall.jpg
ORGANIZER;CN="UW Stroum Center for Jewish Studies":MAILTO:jewishst@uw.edu
END:VEVENT
END:VCALENDAR