BEGIN:VCALENDAR
VERSION:2.0
PRODID:-//UW Stroum Center for Jewish Studies - ECPv6.15.17.1//NONSGML v1.0//EN
CALSCALE:GREGORIAN
METHOD:PUBLISH
X-WR-CALNAME:UW Stroum Center for Jewish Studies
X-ORIGINAL-URL:https://jewishstudies.washington.edu
X-WR-CALDESC:Events for UW Stroum Center for Jewish Studies
REFRESH-INTERVAL;VALUE=DURATION:PT1H
X-Robots-Tag:noindex
X-PUBLISHED-TTL:PT1H
BEGIN:VTIMEZONE
TZID:America/Los_Angeles
BEGIN:DAYLIGHT
TZOFFSETFROM:-0800
TZOFFSETTO:-0700
TZNAME:PDT
DTSTART:20210314T100000
END:DAYLIGHT
BEGIN:STANDARD
TZOFFSETFROM:-0700
TZOFFSETTO:-0800
TZNAME:PST
DTSTART:20211107T090000
END:STANDARD
BEGIN:DAYLIGHT
TZOFFSETFROM:-0800
TZOFFSETTO:-0700
TZNAME:PDT
DTSTART:20220313T100000
END:DAYLIGHT
BEGIN:STANDARD
TZOFFSETFROM:-0700
TZOFFSETTO:-0800
TZNAME:PST
DTSTART:20221106T090000
END:STANDARD
BEGIN:DAYLIGHT
TZOFFSETFROM:-0800
TZOFFSETTO:-0700
TZNAME:PDT
DTSTART:20230312T100000
END:DAYLIGHT
BEGIN:STANDARD
TZOFFSETFROM:-0700
TZOFFSETTO:-0800
TZNAME:PST
DTSTART:20231105T090000
END:STANDARD
END:VTIMEZONE
BEGIN:VEVENT
DTSTART;TZID=America/Los_Angeles:20220524T120000
DTEND;TZID=America/Los_Angeles:20220524T130000
DTSTAMP:20260424T001658
CREATED:20220504T000637Z
LAST-MODIFIED:20220504T000657Z
UID:39429-1653393600-1653397200@jewishstudies.washington.edu
SUMMARY:GRADUATE COLLOQUIUM | Political and Archival Policies: International and Local Perspectives
DESCRIPTION:
URL:https://jewishstudies.washington.edu/graduate-fellows-colloquia-2022/
LOCATION:Zoom
CATEGORIES:Graduate Fellows
ATTACH;FMTTYPE=image/jpeg:https://jewishstudies.washington.edu/wp-content/uploads/2022/04/2021-Graduate-Fellows-web-V.jpg
ORGANIZER;CN="UW Stroum Center for Jewish Studies":MAILTO:jewishst@uw.edu
END:VEVENT
BEGIN:VEVENT
DTSTART;TZID=America/Los_Angeles:20220526T120000
DTEND;TZID=America/Los_Angeles:20220526T133000
DTSTAMP:20260424T001658
CREATED:20220504T001211Z
LAST-MODIFIED:20220504T001311Z
UID:39432-1653566400-1653571800@jewishstudies.washington.edu
SUMMARY:GRADUATE COLLOQUIUM | Reimagining Jewish Narratives in New Contexts: From Antiquity to the Present
DESCRIPTION:
URL:https://jewishstudies.washington.edu/graduate-fellows-colloquia-2022/
LOCATION:Zoom
CATEGORIES:Graduate Fellows
ATTACH;FMTTYPE=image/jpeg:https://jewishstudies.washington.edu/wp-content/uploads/2022/04/2021-Graduate-Fellows-web-V.jpg
ORGANIZER;CN="UW Stroum Center for Jewish Studies":MAILTO:jewishst@uw.edu
END:VEVENT
END:VCALENDAR