BEGIN:VCALENDAR
VERSION:2.0
PRODID:-//UW Stroum Center for Jewish Studies - ECPv6.15.17.1//NONSGML v1.0//EN
CALSCALE:GREGORIAN
METHOD:PUBLISH
X-WR-CALNAME:UW Stroum Center for Jewish Studies
X-ORIGINAL-URL:https://jewishstudies.washington.edu
X-WR-CALDESC:Events for UW Stroum Center for Jewish Studies
REFRESH-INTERVAL;VALUE=DURATION:PT1H
X-Robots-Tag:noindex
X-PUBLISHED-TTL:PT1H
BEGIN:VTIMEZONE
TZID:America/Los_Angeles
BEGIN:DAYLIGHT
TZOFFSETFROM:-0800
TZOFFSETTO:-0700
TZNAME:PDT
DTSTART:20220313T100000
END:DAYLIGHT
BEGIN:STANDARD
TZOFFSETFROM:-0700
TZOFFSETTO:-0800
TZNAME:PST
DTSTART:20221106T090000
END:STANDARD
BEGIN:DAYLIGHT
TZOFFSETFROM:-0800
TZOFFSETTO:-0700
TZNAME:PDT
DTSTART:20230312T100000
END:DAYLIGHT
BEGIN:STANDARD
TZOFFSETFROM:-0700
TZOFFSETTO:-0800
TZNAME:PST
DTSTART:20231105T090000
END:STANDARD
BEGIN:DAYLIGHT
TZOFFSETFROM:-0800
TZOFFSETTO:-0700
TZNAME:PDT
DTSTART:20240310T100000
END:DAYLIGHT
BEGIN:STANDARD
TZOFFSETFROM:-0700
TZOFFSETTO:-0800
TZNAME:PST
DTSTART:20241103T090000
END:STANDARD
END:VTIMEZONE
BEGIN:VEVENT
DTSTART;TZID=America/Los_Angeles:20230525T170000
DTEND;TZID=America/Los_Angeles:20230525T183000
DTSTAMP:20260423T092052
CREATED:20230502T011730Z
LAST-MODIFIED:20230808T185803Z
UID:41524-1685034000-1685039400@jewishstudies.washington.edu
SUMMARY:5/25 WORKSHOP | 'Anglo-Saxons of the East': Armenian Self-Definition... with Ara Daglian
DESCRIPTION:‘Anglo-Saxons of the East’:\nArmenian Self-Definition in Early 20th Century America\nRegister Now >\n\nThe Stroum Center for Jewish Studies is thrilled to invite you to the second in a new series of workshops\, a lecture led by Jewish Studies Graduate Fellow Ara Daglian. Please join us to celebrate his imminent graduation and learn something new from him\, all while enjoying wine and Dingfelder’s Deli delights. Yes\, you read that right! \nIn this lecture\, Ara Daglian will share some of his research from his work-in-progress\, “Anglo-Saxons of the East”: Armenian Self-Definition in Early 20th Century America\, to which Professor Devin E. Naar of the Sephardic Studies Program will pose some initial questions before the floor opens for discussion. Read on for a brief synopsis of his forthcoming paper: \n\nThis paper focuses on an important work of Armenian-American identity — The Armenians in America by M. Vartan Malcom. While previously known as a source of statistical and quantitative information on early Armenian-American history\, the text also provided a voice to Armenian-Americans in an era where the American public knew them only through paternalistic aid campaigns and fundraiser slogans. \n\n\nTo analyze The Armenians in America as a work to redefine the Armenian-American identity\, this paper turn towards Jewish studies for inspiration. Jewish studies historiography boasts a highly developed framework for understanding how Jewish Americans redefined themselves in the late nineteenth and early twentieth centuries\, offering a useful tool for studying Armenian-Americans as well. \n\nRegister Now >\n\nCo-sponsored by UW’s Middle East Center and UW’s Armenian Student Association. \nAbout the speakers\n\n \nAra Daglian is a master’s student in the Middle East Studies program at the Henry M. Jackson School of International Studies. Originally from Connecticut\, he received his B.A. in history from Eastern Connecticut State University before coming to the University of Washington. As a Stroum Center graduate fellow\, Ara plans to examine the complex inter-communal relations between Jews\, Arabs and Armenians residing in Jerusalem during the British Mandate era. He is a Robinovitch Family Fellow. \n\n\n\n\nDevin E. Naar is the Isaac Alhadeff Professor in Sephardic Studies\, Chair of the Sephardic Studies Program\, Associate Professor of History\, and faculty at the Stroum Center for Jewish Studies in the Jackson School of International Studies at the University of Washington. As chair\, Naar has spearheaded a project to collect\, preserve and disseminate the rich Sephardic and Ladino historical\, literary and cultural heritage. After serving as a Fulbright fellow to Greece\, his first book\, Jewish Salonica: Between the Ottoman Empire and Modern Greece\, was published by Stanford University Press in 2016. The book won the 2016 National Jewish Book Award in the category of Research Based on Archival Material and was named a finalist in Sephardic Culture. It also won the 2017 Edmund Keeley Prize for best book in Modern Greek Studies awarded by the Modern Greek Studies Association. As a fellow in the Society of Scholars at the Simpson Center for the Humanities at the University of Washington in 2013-2014\, Dr. Naar began his second book project\, Reimagining the Sephardic Diaspora. He conducts research in Judeo-Spanish\, Greek\, Hebrew and French.
URL:https://jewishstudies.washington.edu/event/5-25-workshop-anglo-saxons-of-the-east-armenian-self-definition-with-ara-daglian/
LOCATION:Thomson 317\, UW Campus\, 2023 Skagit Lane\, Seattle\, WA\, 98195\, United States
CATEGORIES:Graduate Fellows,Workshop
ATTACH;FMTTYPE=image/jpeg:https://jewishstudies.washington.edu/wp-content/uploads/2023/05/ArasTalk.jpeg
ORGANIZER;CN="Stroum Center for Jewish Studies":MAILTO:jewishst@uw.edu
END:VEVENT
BEGIN:VEVENT
DTSTART;TZID=America/Los_Angeles:20230530T160000
DTEND;TZID=America/Los_Angeles:20230601T120000
DTSTAMP:20260423T092052
CREATED:20230502T201537Z
LAST-MODIFIED:20230531T231110Z
UID:41564-1685462400-1685620800@jewishstudies.washington.edu
SUMMARY:5/30 — 6/1 TALKS | '22 — '23 Graduate Fellow Colloquia
DESCRIPTION:See the event page for more details. \nRegister Now >
URL:https://jewishstudies.washington.edu/event/22-23-graduate-fellow-presentations/
LOCATION:Zoom
CATEGORIES:Graduate Fellows
ATTACH;FMTTYPE=image/jpeg:https://jewishstudies.washington.edu/wp-content/uploads/2022/08/2022-Graduate-Fellows-web-IV.jpg
ORGANIZER;CN="Stroum Center for Jewish Studies":MAILTO:jewishst@uw.edu
END:VEVENT
END:VCALENDAR