BEGIN:VCALENDAR
VERSION:2.0
PRODID:-//UW Stroum Center for Jewish Studies - ECPv6.15.17.1//NONSGML v1.0//EN
CALSCALE:GREGORIAN
METHOD:PUBLISH
X-ORIGINAL-URL:https://jewishstudies.washington.edu
X-WR-CALDESC:Events for UW Stroum Center for Jewish Studies
REFRESH-INTERVAL;VALUE=DURATION:PT1H
X-Robots-Tag:noindex
X-PUBLISHED-TTL:PT1H
BEGIN:VTIMEZONE
TZID:America/Los_Angeles
BEGIN:DAYLIGHT
TZOFFSETFROM:-0800
TZOFFSETTO:-0700
TZNAME:PDT
DTSTART:20220313T100000
END:DAYLIGHT
BEGIN:STANDARD
TZOFFSETFROM:-0700
TZOFFSETTO:-0800
TZNAME:PST
DTSTART:20221106T090000
END:STANDARD
BEGIN:DAYLIGHT
TZOFFSETFROM:-0800
TZOFFSETTO:-0700
TZNAME:PDT
DTSTART:20230312T100000
END:DAYLIGHT
BEGIN:STANDARD
TZOFFSETFROM:-0700
TZOFFSETTO:-0800
TZNAME:PST
DTSTART:20231105T090000
END:STANDARD
BEGIN:DAYLIGHT
TZOFFSETFROM:-0800
TZOFFSETTO:-0700
TZNAME:PDT
DTSTART:20240310T100000
END:DAYLIGHT
BEGIN:STANDARD
TZOFFSETFROM:-0700
TZOFFSETTO:-0800
TZNAME:PST
DTSTART:20241103T090000
END:STANDARD
END:VTIMEZONE
BEGIN:VEVENT
DTSTART;TZID=America/Los_Angeles:20230331T093000
DTEND;TZID=America/Los_Angeles:20230331T103000
DTSTAMP:20260424T072043
CREATED:20230310T201909Z
LAST-MODIFIED:20230808T185731Z
UID:41146-1680255000-1680258600@jewishstudies.washington.edu
SUMMARY:3/31 EVENT | A Workshop with Rachel Brown
DESCRIPTION:Register Now >\n\nThe Stroum Center for Jewish Studies is hosting Rachel Brown for a morning workshop\, in which she’ll discuss chapter 1 of her forthcoming paper\, titled “Land\, Reproductive Labor and Accumulation: Situating Migrant Carework in Israel/Palestine”. Jewish Studies grad fellow Jake Beckert will serve as respondent. \n\nRegister Now >\nAbout the speaker\n\n\n Rachel Brown‘s research and teaching interests include feminist and queer political theory\, settler colonialism\, Marxist feminism and questions of labor migration\, transnational feminisms\, and the politics of debt. \nShe earned her doctorate from The Graduate Center\, City University of New York in 2017. Her book manuscript\, Unsettled Labors: Migrant Caregivers in Palestine/Israel\, is under contract at Duke University Press. Her work has appeared in Feminist Theory\, Political Theory\, International Feminist Journal of Politics\, Theory & Event\, and Global Networks. Her most recent article is forthcoming in Race & Class. \n\n  \n\n\nThe University of Washington is committed to providing access and accommodation in its services\, programs\, and activities. To make a request connected to a disability or health condition contact Grace Dy at (206) 543-0138 or jewishst@uw.edu at least 10 days before the event.
URL:https://jewishstudies.washington.edu/event/3-31-event-a-workshop-and-talk-with-rachel-brown/
LOCATION:Thomson 317\, UW Campus\, 2023 Skagit Lane\, Seattle\, WA\, 98195\, United States
CATEGORIES:Israel Studies,Workshop
ATTACH;FMTTYPE=image/jpeg:https://jewishstudies.washington.edu/wp-content/uploads/2023/03/caregivers1.jpeg
END:VEVENT
END:VCALENDAR