BEGIN:VCALENDAR
VERSION:2.0
PRODID:-//UW Stroum Center for Jewish Studies - ECPv6.15.17.1//NONSGML v1.0//EN
CALSCALE:GREGORIAN
METHOD:PUBLISH
X-WR-CALNAME:UW Stroum Center for Jewish Studies
X-ORIGINAL-URL:https://jewishstudies.washington.edu
X-WR-CALDESC:Events for UW Stroum Center for Jewish Studies
REFRESH-INTERVAL;VALUE=DURATION:PT1H
X-Robots-Tag:noindex
X-PUBLISHED-TTL:PT1H
BEGIN:VTIMEZONE
TZID:America/Los_Angeles
BEGIN:DAYLIGHT
TZOFFSETFROM:-0800
TZOFFSETTO:-0700
TZNAME:PDT
DTSTART:20200308T100000
END:DAYLIGHT
BEGIN:STANDARD
TZOFFSETFROM:-0700
TZOFFSETTO:-0800
TZNAME:PST
DTSTART:20201101T090000
END:STANDARD
BEGIN:DAYLIGHT
TZOFFSETFROM:-0800
TZOFFSETTO:-0700
TZNAME:PDT
DTSTART:20210314T100000
END:DAYLIGHT
BEGIN:STANDARD
TZOFFSETFROM:-0700
TZOFFSETTO:-0800
TZNAME:PST
DTSTART:20211107T090000
END:STANDARD
BEGIN:DAYLIGHT
TZOFFSETFROM:-0800
TZOFFSETTO:-0700
TZNAME:PDT
DTSTART:20220313T100000
END:DAYLIGHT
BEGIN:STANDARD
TZOFFSETFROM:-0700
TZOFFSETTO:-0800
TZNAME:PST
DTSTART:20221106T090000
END:STANDARD
END:VTIMEZONE
BEGIN:VEVENT
DTSTART;TZID=America/Los_Angeles:20210114T170000
DTEND;TZID=America/Los_Angeles:20210114T170000
DTSTAMP:20260424T203558
CREATED:20201215T005514Z
LAST-MODIFIED:20210105T193722Z
UID:35976-1610643600-1610643600@jewishstudies.washington.edu
SUMMARY:1/14 TALK | The Converso's Return: Dalia Kandiyoti in Conversation with Devin E. Naar
DESCRIPTION:Dalia Kandiyoti (College of Staten Island\, City University of New York) will discuss her new book “The Converso’s Return: Conversion and Sephardi History in Contemporary Literature and Culture.” \nTo purchase the book at a discount from Stanford University Press\, use code Kandiyoti20. \nPlease note your time zone if you are tuning in outside of Seattle:\nThis event will begin at 5 p.m. PST / 8 p.m. EST  \nRegister Now\n  \nAbout the talk \nIn the fifteenth century\, thousands of Jews in the Iberian Peninsula (today’s Spain and Portugal) were forced to convert to Catholicism under threat of death and became known as conversos (literally meaning “the converted”). Five centuries later\, their descendants have been uncovering their long-hidden Jewish roots; as these stories come to light\, they have taken hold of the literary and popular imagination. This seemingly remote history has inspired a wave of contemporary writing involving hidden artifacts\, familial whispers and secrets\, and clandestine Jewish ritual practices pointing to a past that had been presumed dead and buried. “The Converso’s Return” explores the cultural politics and literary impact of this reawakened interest in converso and crypto-Jewish history\, ancestry\, and identity\, and asks what this fascination with lost-and-found heritage can tell us about how we relate to and make use of the past. \nAbout the speakers \nDalia Kandiyoti is Professor of English at the College of Staten Island\, City University of New York. She is the author of “The Converso’s Return: Conversion and Sephardi History in Contemporary Literature and Culture” (Stanford\, 2020). Her first book\, published by University Press of New England\, is called “Migrant Sites: America\, Place\, and Diaspora Literatures.” She has also published articles in scholarly journals and edited volumes on Sephardi and Latinx writing and co-edited a special journal issue entitled “Jewish-Muslim Crossings in the Americas.” Her current work includes an oral history project and an edited volume about Sephardi Jews and the citizenship laws in Spain and Portugal\, both in collaboration with Rina Benmayor. This work has received support from the National Endowment for the Humanities. \n  \nDevin E. Naar is the Isaac Alhadeff Professor in Sephardic Studies\, Associate Professor of History\, and faculty at the Stroum Center for Jewish Studies in the Jackson School of International Studies at the University of Washington. He received his Ph.D. in History at Stanford University and has also served as a Fulbright fellow to Greece. His first book\, Jewish Salonica: Between the Ottoman Empire and Modern Greece\, was published by Stanford University Press in 2016. The book won the 2016 National Jewish Book Award in the category of Research Based on Archival Material and was named a finalist in Sephardic Culture. It also won the 2017 Edmund Keeley Prize for best book in Modern Greek Studies awarded by the Modern Greek Studies Association. \nPresented in partnership with the departments of English\, History\, Latin American & Caribbean Studies\, Near Eastern Languages and Civilizations\, and Spanish and Portuguese Studies; Congregation Ezra Bessaroth\, Jewish Currents Magazine\, the Seattle Sephardic Network\, Sephardic Bikur Holim Congregation\, the Sephardic Jewish Brotherhood of America\, and the Society for Crypto-Judaic Studies.
URL:https://jewishstudies.washington.edu/event/the-conversos-return-dalia-kandiyoti-in-conversation-with-devin-e-naar/
LOCATION:RSVP for Zoom link
CATEGORIES:Academic Lectures,Sephardic Studies
ATTACH;FMTTYPE=image/jpeg:https://jewishstudies.washington.edu/wp-content/uploads/2020/12/moorish-pattern-in-alhambra-palace-spain-granada-scaled.jpg
END:VEVENT
END:VCALENDAR