BEGIN:VCALENDAR
VERSION:2.0
PRODID:-//UW Stroum Center for Jewish Studies - ECPv6.15.17.1//NONSGML v1.0//EN
CALSCALE:GREGORIAN
METHOD:PUBLISH
X-ORIGINAL-URL:https://jewishstudies.washington.edu
X-WR-CALDESC:Events for UW Stroum Center for Jewish Studies
REFRESH-INTERVAL;VALUE=DURATION:PT1H
X-Robots-Tag:noindex
X-PUBLISHED-TTL:PT1H
BEGIN:VTIMEZONE
TZID:America/Los_Angeles
BEGIN:DAYLIGHT
TZOFFSETFROM:-0800
TZOFFSETTO:-0700
TZNAME:PDT
DTSTART:20220313T100000
END:DAYLIGHT
BEGIN:STANDARD
TZOFFSETFROM:-0700
TZOFFSETTO:-0800
TZNAME:PST
DTSTART:20221106T090000
END:STANDARD
BEGIN:DAYLIGHT
TZOFFSETFROM:-0800
TZOFFSETTO:-0700
TZNAME:PDT
DTSTART:20230312T100000
END:DAYLIGHT
BEGIN:STANDARD
TZOFFSETFROM:-0700
TZOFFSETTO:-0800
TZNAME:PST
DTSTART:20231105T090000
END:STANDARD
BEGIN:DAYLIGHT
TZOFFSETFROM:-0800
TZOFFSETTO:-0700
TZNAME:PDT
DTSTART:20240310T100000
END:DAYLIGHT
BEGIN:STANDARD
TZOFFSETFROM:-0700
TZOFFSETTO:-0800
TZNAME:PST
DTSTART:20241103T090000
END:STANDARD
END:VTIMEZONE
BEGIN:VEVENT
DTSTART;TZID=America/Los_Angeles:20230403T160000
DTEND;TZID=America/Los_Angeles:20230403T170000
DTSTAMP:20260423T101220
CREATED:20230117T204905Z
LAST-MODIFIED:20230720T223004Z
UID:40598-1680537600-1680541200@jewishstudies.washington.edu
SUMMARY:4/3 TALK | Sarah Zaides Rosen on "Tevye's Ottoman Daughter"
DESCRIPTION:Register Now >\n\nIn this talk\, historian and Stroum Center for Jewish Studies’ Associate Director Sarah Zaides Rosen will trace the story of 19th- and 20th-century Russian Jews who left the Pale of Settlement\, crossed the Black Sea and arrived in Constantinople (modern-day Istanbul)\, all in the twilight years of the Russian and Ottoman Empires. \nThis talk will introduce listeners not only to a fascinating Jewish community where Sephardic Jews were the majority (and Ashkenazi Jews the minority)\, but also to the ways in which Sephardic Jews responded to a refugee crisis\, and in turn how they contended with contemporary political ideas\, including Zionism. \nThe audience will also learn about hopeful Jews who created agricultural colonies in the western Aegean region of Turkey (such as Or Yehuda)\, funded by philanthropist Baron Maurice de Hirsch and aided by the nascent agricultural school Mikveh Israel. There\, in these early “kibbutz”-like colonies\, Russian and Ashkenazi Jews would either await Ottoman citizenship\, which would allow them to move on to the Land of Israel\, or slip through the borders between what is now Turkey\, Syria\, and Israel. \nCentered on the book “Tevye’s Ottoman Daughter: Ashkenazi and Sephardi Jews at the End of Empire“\, Sarah will discuss Jewish identity in the late Ottoman world\, and the ways in which Zionism was being debated and interpreted in the late Ottoman context. \nRegister Now >\n\nPresented by the Stroum Center for Jewish Studies. \nCosponsored by the Departments of History and Middle Eastern Languages and Cultures\, the Ellison Center for Russian\, East European\, and Central Asian Studies\, and the Middle East Center. \nAbout the speaker\n\n\n Sarah Zaides Rosen received her Ph.D. from the Department of History at the University of Washington in 2017 and her B.A. from the University of California San Diego. She was a fellow at the Woodrow Wilson Foundation and has held the Titus Ellison Fellowship and multiple Joff Hanauer Fellowships at the University of Washington. Her research has been supported by the Memorial Foundation for Jewish Culture\, Brandeis University\, and the Vidal Sassoon Center for the Study of Antisemitism. Zaides Rosen is currently Associate Director of the Stroum Center for Jewish Studies at the Henry M. Jackson School of International Studies at the University of Washington. \nIn conversation with Professors Canan Bolel (MELC) and Devin E. Naar (History and Jewish Studies). \n\nThe University of Washington is committed to providing access and accommodation in its services\, programs\, and activities. To make a request connected to a disability or health condition contact Grace Dy at (206) 543-0138 or jewishst@uw.edu at least 10 days before the event.
URL:https://jewishstudies.washington.edu/event/szr-book-talk/
LOCATION:Zoom
CATEGORIES:Academic Lectures,Sephardic Studies
ATTACH;FMTTYPE=image/png:https://jewishstudies.washington.edu/wp-content/uploads/2023/01/SZR-Book-Talk.png
ORGANIZER;CN="Stroum Center for Jewish Studies":MAILTO:jewishst@uw.edu
END:VEVENT
END:VCALENDAR