BEGIN:VCALENDAR
VERSION:2.0
PRODID:-//UW Stroum Center for Jewish Studies - ECPv6.15.17.1//NONSGML v1.0//EN
CALSCALE:GREGORIAN
METHOD:PUBLISH
X-WR-CALNAME:UW Stroum Center for Jewish Studies
X-ORIGINAL-URL:https://jewishstudies.washington.edu
X-WR-CALDESC:Events for UW Stroum Center for Jewish Studies
REFRESH-INTERVAL;VALUE=DURATION:PT1H
X-Robots-Tag:noindex
X-PUBLISHED-TTL:PT1H
BEGIN:VTIMEZONE
TZID:America/Los_Angeles
BEGIN:DAYLIGHT
TZOFFSETFROM:-0800
TZOFFSETTO:-0700
TZNAME:PDT
DTSTART:20220313T100000
END:DAYLIGHT
BEGIN:STANDARD
TZOFFSETFROM:-0700
TZOFFSETTO:-0800
TZNAME:PST
DTSTART:20221106T090000
END:STANDARD
BEGIN:DAYLIGHT
TZOFFSETFROM:-0800
TZOFFSETTO:-0700
TZNAME:PDT
DTSTART:20230312T100000
END:DAYLIGHT
BEGIN:STANDARD
TZOFFSETFROM:-0700
TZOFFSETTO:-0800
TZNAME:PST
DTSTART:20231105T090000
END:STANDARD
BEGIN:DAYLIGHT
TZOFFSETFROM:-0800
TZOFFSETTO:-0700
TZNAME:PDT
DTSTART:20240310T100000
END:DAYLIGHT
BEGIN:STANDARD
TZOFFSETFROM:-0700
TZOFFSETTO:-0800
TZNAME:PST
DTSTART:20241103T090000
END:STANDARD
END:VTIMEZONE
BEGIN:VEVENT
DTSTART;VALUE=DATE:20230521
DTEND;VALUE=DATE:20230524
DTSTAMP:20260423T085033
CREATED:20230427T210716Z
LAST-MODIFIED:20230515T193914Z
UID:41484-1684638000-1684810799@jewishstudies.washington.edu
SUMMARY:5/21 - 5/22 UW Symposium | Jews Amidst the Embers of the Ottoman Empire
DESCRIPTION:Research in the fields of Jewish\, Ottoman\, and Middle East history is often focused either on the late Ottoman period (variously defined)\, or on successor regimes (e.g. Republican Turkey\, Arab and Balkan nation-states\, British mandate Palestine or French mandate Syria). Moreover\, scholars often divide the worlds of Ottoman Jewry into two discrete zones defined by geography\, culture\, or language: the Ladino-speaking Jews of the Balkans and Anatolia\, and the Arabic-speaking Jews of the Eastern Mediterranean and parts of North Africa. Yet due to the parameters imposed by multiple (sub)fields\, language limitations\, and other factors\, these various Jewish groups–who also intersect with Greek-speaking Jews\, Neo-Aramaic-speaking Jews\, Yiddish-speaking Jews and others–are often not conceptualized within an integrated framework. \nWorking across these temporal and geographic divides reveals the legacies and afterlives of the Ottoman Empire after its demise\, continuity as well as change across space and across moments of historical rupture\, and the mechanisms by which the Ottoman Empire took on meaning as an object of memory within and in light of later political\, cultural\, and social developments. \nConference Overview\n \n 
URL:https://jewishstudies.washington.edu/event/5-21-5-22-uw-symposium-jews-amidst-the-embers-of-the-ottoman-empire/
LOCATION:Madrona 313 + Communications 202
CATEGORIES:Academic Lectures,Sephardic Studies
ATTACH;FMTTYPE=image/jpeg:https://jewishstudies.washington.edu/wp-content/uploads/2023/04/Jews-amidst-Embers-of-Ottoman-Empire-poster.jpg
END:VEVENT
END:VCALENDAR