BEGIN:VCALENDAR
VERSION:2.0
PRODID:-//UW Stroum Center for Jewish Studies - ECPv6.15.17.1//NONSGML v1.0//EN
CALSCALE:GREGORIAN
METHOD:PUBLISH
X-WR-CALNAME:UW Stroum Center for Jewish Studies
X-ORIGINAL-URL:https://jewishstudies.washington.edu
X-WR-CALDESC:Events for UW Stroum Center for Jewish Studies
REFRESH-INTERVAL;VALUE=DURATION:PT1H
X-Robots-Tag:noindex
X-PUBLISHED-TTL:PT1H
BEGIN:VTIMEZONE
TZID:America/Los_Angeles
BEGIN:DAYLIGHT
TZOFFSETFROM:-0800
TZOFFSETTO:-0700
TZNAME:PDT
DTSTART:20230312T100000
END:DAYLIGHT
BEGIN:STANDARD
TZOFFSETFROM:-0700
TZOFFSETTO:-0800
TZNAME:PST
DTSTART:20231105T090000
END:STANDARD
BEGIN:DAYLIGHT
TZOFFSETFROM:-0800
TZOFFSETTO:-0700
TZNAME:PDT
DTSTART:20240310T100000
END:DAYLIGHT
BEGIN:STANDARD
TZOFFSETFROM:-0700
TZOFFSETTO:-0800
TZNAME:PST
DTSTART:20241103T090000
END:STANDARD
BEGIN:DAYLIGHT
TZOFFSETFROM:-0800
TZOFFSETTO:-0700
TZNAME:PDT
DTSTART:20250309T100000
END:DAYLIGHT
BEGIN:STANDARD
TZOFFSETFROM:-0700
TZOFFSETTO:-0800
TZNAME:PST
DTSTART:20251102T090000
END:STANDARD
END:VTIMEZONE
BEGIN:VEVENT
DTSTART;TZID=America/Los_Angeles:20240228T120000
DTEND;TZID=America/Los_Angeles:20240228T130000
DTSTAMP:20260422T212705
CREATED:20240209T183135Z
LAST-MODIFIED:20240226T233026Z
UID:43011-1709121600-1709125200@jewishstudies.washington.edu
SUMMARY:2/28 LUNCH & LEARN | The Invention of the Postcard: The Circulation of Jewish Visual Culture in Ottoman and Greek Salonica with Shalom Sabar
DESCRIPTION:The invention of the postcard in the late nineteenth century revolutionized how people exchanged information and images. While first introduced in the United States\, the postcard quickly spread across the world. In the realm of the Ottoman Empire\, where post offices had operated since the middle of the nineteenth century\, the postcard added a new dimension to the emerging technologies of communication. \nJoin us to hear Professor Shalom Sabar discuss how his review of extensive collections of Jewish postcards from Salonica (1897-1917) helps us to understand the self-perception and the experience of the Jews living in the city. \nLunch will be provided. This event is free and open to the public\, but RSVP is required. Click the button below to register: \nRegister Now > \nThis event is co-sponsored by the Division of Art History at the University of Washington. \n \nAbout the speaker\nShalom Sabar is a Professor Emeritus of Jewish Art and Folklore at the Hebrew University in Jerusalem. He received his Ph.D. in Art History at the University of California\, Los Angeles in 1987. He is the author of more than 250 publications exploring Jewish art and the material culture of Jewish communities in the Sephardi and Ashkenazi worlds in Europe and the Islamic East. His research areas include Jewish ceremonies and rituals\, life cycle events\, objects of daily life\, ephemera\, folk art\, amulets\, and magic\, as well as the visual culture of illustrated Hebrew books and manuscripts. Shalom Sabar is also an avid collector of Israeli and Jewish ephemera and has guided numerous traveling seminars to Jewish sites in Europe\, North Africa\, India\, and Central Asia \nThe University of Washington is committed to providing access and accommodation in its services\, programs\, and activities. To make a request connected to a disability or health condition contact Grace Elizabeth Dy at (206) 543-0138 or jewishst@uw.edu at least 10 days before the event. \n 
URL:https://jewishstudies.washington.edu/event/shalom-sabar-lunch-and-learn-winter-2024/
LOCATION:Thomson Hall 317\, Thomson Hall 317\, Seattle
CATEGORIES:Academic Lectures,Arts & Culture,Sephardic Studies
ATTACH;FMTTYPE=image/jpeg:https://jewishstudies.washington.edu/wp-content/uploads/2024/02/sephardic-postcard.jpg
ORGANIZER;CN="Stroum Center for Jewish Studies":MAILTO:jewishst@uw.edu
END:VEVENT
END:VCALENDAR