BEGIN:VCALENDAR
VERSION:2.0
PRODID:-//UW Stroum Center for Jewish Studies - ECPv6.15.17.1//NONSGML v1.0//EN
CALSCALE:GREGORIAN
METHOD:PUBLISH
X-WR-CALNAME:UW Stroum Center for Jewish Studies
X-ORIGINAL-URL:https://jewishstudies.washington.edu
X-WR-CALDESC:Events for UW Stroum Center for Jewish Studies
REFRESH-INTERVAL;VALUE=DURATION:PT1H
X-Robots-Tag:noindex
X-PUBLISHED-TTL:PT1H
BEGIN:VTIMEZONE
TZID:America/Los_Angeles
BEGIN:DAYLIGHT
TZOFFSETFROM:-0800
TZOFFSETTO:-0700
TZNAME:PDT
DTSTART:20200308T100000
END:DAYLIGHT
BEGIN:STANDARD
TZOFFSETFROM:-0700
TZOFFSETTO:-0800
TZNAME:PST
DTSTART:20201101T090000
END:STANDARD
BEGIN:DAYLIGHT
TZOFFSETFROM:-0800
TZOFFSETTO:-0700
TZNAME:PDT
DTSTART:20210314T100000
END:DAYLIGHT
BEGIN:STANDARD
TZOFFSETFROM:-0700
TZOFFSETTO:-0800
TZNAME:PST
DTSTART:20211107T090000
END:STANDARD
BEGIN:DAYLIGHT
TZOFFSETFROM:-0800
TZOFFSETTO:-0700
TZNAME:PDT
DTSTART:20220313T100000
END:DAYLIGHT
BEGIN:STANDARD
TZOFFSETFROM:-0700
TZOFFSETTO:-0800
TZNAME:PST
DTSTART:20221106T090000
END:STANDARD
END:VTIMEZONE
BEGIN:VEVENT
DTSTART;TZID=America/Los_Angeles:20211208T170000
DTEND;TZID=America/Los_Angeles:20211208T180000
DTSTAMP:20260421T025649
CREATED:20211013T000840Z
LAST-MODIFIED:20220218T010639Z
UID:37745-1638982800-1638986400@jewishstudies.washington.edu
SUMMARY:12/8 STUDENT EVENT | Narrating Migration Stories: Podcasting Sephardic Jewish Journeys
DESCRIPTION:Scholar and co-creator of the well-known Ottoman History Podcast Chris Gratien and retired journalist Sam Negri discuss their approach to telling the stories of marginalized migrants to the United States\, focusing on the story of Negri’s father\, Sephardic Jew Leo Negri\, who came to the United States undocumented in the early 1900s along with thousands of other Sephardim (Jews expelled from modern-day Spain in 1492 who sought refuge throughout the Ottoman Empire). \nWatch the conversation now:\n \nAbout this talk\nIn the early twentieth century\, tens of thousands of Sephardic Jews migrated to the United States from the borders of the collapsing Ottoman Empire. In addition to navigating inter-Jewish communal relationships with fellow Ashkenazi Jews\, Sephardic Jews were also subject to racially biased immigration quotas that were becoming ever more restrictive during the 1920s. \nFalsified papers were often the only way for many Sepharadim to gain entry to the United States — a route taken by Istanbul-born Leo Negri\, whose fraudulent passport listed his country of origin as Cuba. \nHow can the podcast medium be leveraged to share the complex stories of Ottoman migrants to the United States? How can Negri’s story help us understand the stories of thousands of other Ottoman migrants like him\, many of whom faced deportation threats and racism in their new American neighborhoods? \nJoin Chris Gratien\, Assistant Professor of History\, University of Virginia\, co-creator of the Ottoman History Podcast\, and Sam Negri\, a retired journalist and Leo Negri’s son\, for a conversation about this understudied moment in Jewish\, Ottoman\, and American history. \nAbout the speakers\nChris Gratien is Assistant Professor of History at the University of Virginia. He teaches courses on environmental history and the modern Middle East\, with a research focus on the late Ottoman Empire. He is the co-creator of the Ottoman History Podcast and recently contributed a chapter to “Sephardic Trajectories: Archives\, Objects\, and the Ottoman Jewish Past in the United States” (Koç University Press\, 2021) that was co-authored with Sam Negri. \n Sam Negri is a retired journalist based in Arizona. His articles have appeared in the New York Times\, the Los Angeles Times\, and numerous other publications. His father\, Leo Negri\, was an Istanbul-born Jew who immigrated to the United States in the early twentieth century. \n  \n  \n 
URL:https://jewishstudies.washington.edu/event/narrating-migration-stories-podcast-student-event/
LOCATION:WA
CATEGORIES:Sephardic Studies,Student
ATTACH;FMTTYPE=image/jpeg:https://jewishstudies.washington.edu/wp-content/uploads/2021/10/Narrating-Migration-Stories-event-banner.jpg
ORGANIZER;CN="UW Stroum Center for Jewish Studies":MAILTO:jewishst@uw.edu
END:VEVENT
END:VCALENDAR