BEGIN:VCALENDAR
VERSION:2.0
PRODID:-//UW Stroum Center for Jewish Studies - ECPv6.15.17.1//NONSGML v1.0//EN
CALSCALE:GREGORIAN
METHOD:PUBLISH
X-WR-CALNAME:UW Stroum Center for Jewish Studies
X-ORIGINAL-URL:https://jewishstudies.washington.edu
X-WR-CALDESC:Events for UW Stroum Center for Jewish Studies
REFRESH-INTERVAL;VALUE=DURATION:PT1H
X-Robots-Tag:noindex
X-PUBLISHED-TTL:PT1H
BEGIN:VTIMEZONE
TZID:America/Los_Angeles
BEGIN:DAYLIGHT
TZOFFSETFROM:-0800
TZOFFSETTO:-0700
TZNAME:PDT
DTSTART:20140309T100000
END:DAYLIGHT
BEGIN:STANDARD
TZOFFSETFROM:-0700
TZOFFSETTO:-0800
TZNAME:PST
DTSTART:20141102T090000
END:STANDARD
BEGIN:DAYLIGHT
TZOFFSETFROM:-0800
TZOFFSETTO:-0700
TZNAME:PDT
DTSTART:20150308T100000
END:DAYLIGHT
BEGIN:STANDARD
TZOFFSETFROM:-0700
TZOFFSETTO:-0800
TZNAME:PST
DTSTART:20151101T090000
END:STANDARD
BEGIN:DAYLIGHT
TZOFFSETFROM:-0800
TZOFFSETTO:-0700
TZNAME:PDT
DTSTART:20160313T100000
END:DAYLIGHT
BEGIN:STANDARD
TZOFFSETFROM:-0700
TZOFFSETTO:-0800
TZNAME:PST
DTSTART:20161106T090000
END:STANDARD
END:VTIMEZONE
BEGIN:VEVENT
DTSTART;TZID=America/Los_Angeles:20151102T153000
DTEND;TZID=America/Los_Angeles:20151102T170000
DTSTAMP:20260424T042833
CREATED:20150903T203735Z
LAST-MODIFIED:20151101T213953Z
UID:17998-1446478200-1446483600@jewishstudies.washington.edu
SUMMARY:The Complaint Desk: Locating American Jewish Literature's 'Russian' Authenticity in the History of Listening
DESCRIPTION:Prof. Gabriella Safran\, Eva Chernov Lokey Chair of Jewish Studies\, has written on Russian\, Polish\, Yiddish\, and French literatures and cultures.  Her most recent book\,Wandering Soul:  The Dybbuk’s Creator\, S. An-sky (Harvard\, 2010)\, is a biography of an early-twentieth-century Russian-Yiddish writer who was also an ethnographer\, a revolutionary\, and a wartime relief worker. \nSafran teaches and writes on Russian literature\, Yiddish literature\, folklore\, and folkloristics.  She is now working on two monograph projects: one on the collection and curating of the Russian peasant voice\, by writers\, lexicographers\, ethnographers\, and musicologists\, from the 1830s to the 1910s\, and the other on the popularization of notions of Jewish voice\, by writers\, speakers\, and performers\, in the Russian space and in the United States\, from the 1870s through the 1920s. \n  \nOrganized by: Slavic Languages and Literatures \nCo-sponsored by: Stroum Center for Jewish Studies\, the Department of Comparative Literature\, Cinema & Media\, and the Department of English
URL:https://jewishstudies.washington.edu/event/the-complaint-desk-locating-american-jewish-literatures-russian-authenticity-in-the-history-of-listening/
LOCATION:Communications 120\, UW Campus\, University of Washington\, Seattle\, WA\, 98105\, United States
ATTACH;FMTTYPE=image/jpeg:https://jewishstudies.washington.edu/wp-content/uploads/2015/09/4.4Facultyimage-SafranG.jpg
END:VEVENT
BEGIN:VEVENT
DTSTART;TZID=America/Los_Angeles:20151104T120000
DTEND;TZID=America/Los_Angeles:20151104T130000
DTSTAMP:20260424T042833
CREATED:20151027T235355Z
LAST-MODIFIED:20151104T032714Z
UID:18668-1446638400-1446642000@jewishstudies.washington.edu
SUMMARY:UW Philosophers Talk about the Migration Crisis ft. Prof. Michael Rosenthal
DESCRIPTION:Is religion or culture relevant to our decisions about helping refugees or our immigration policy? Join Prof. Michael Rosenthal in conversation around this issue. \nThis event is part of the series “UW Philosophers Talk about the Migration Crisis.” Each session of this series will begin with a brief\, 15-20 minute presentation and then will continue with discussion with the goal of stimulating conversation about this important topic. Everyone in the UW community – students\, faculty\, and staff – are invited to attend. The only prerequisite is that you come willing to listen and discuss with respect. \nFor more information about this series\, check out UW Philosphy’s website (phil.washington.edu) or send an e-mail to philinfo@uw.edu.
URL:https://jewishstudies.washington.edu/event/uw-philosophers-talk-about-the-migration-crisis-ft-prof-michael-rosenthal/
LOCATION:Savery Hall (Large table outside of Savery Hall 361)\, 4069 Spokane Ln\, Seattle\, WA\, 98195\, United States
ATTACH;FMTTYPE=image/jpeg:https://jewishstudies.washington.edu/wp-content/uploads/2015/10/Migration-Crisis-e1446607615528.jpg
ORGANIZER;CN="Philosophy Department":MAILTO:philinfo@uw.edu
END:VEVENT
BEGIN:VEVENT
DTSTART;TZID=America/Los_Angeles:20151104T170000
DTEND;TZID=America/Los_Angeles:20151104T181500
DTSTAMP:20260424T042833
CREATED:20151008T220102Z
LAST-MODIFIED:20180707T010703Z
UID:18405-1446656400-1446660900@jewishstudies.washington.edu
SUMMARY:STUDENT EVENT: Feasting with Faculty with Prof. Susan Glenn
DESCRIPTION:Get to know History professor and Jewish Studies faculty member Susan Glenn over a delicious (and free!) dinner. Come join for what is sure to be a delightful evening! Open to undergraduate and graduate students only. No cost but reservations required.
URL:https://jewishstudies.washington.edu/event/feasting-with-faculty-with-prof-susan-glenn/
LOCATION:Shalimar on the Ave\, 4214 University Way NE\, Seattle\, 98115\, US
ATTACH;FMTTYPE=image/jpeg:https://jewishstudies.washington.edu/wp-content/uploads/2011/10/Susan-Glenn-e1407640299770.jpg
ORGANIZER;CN="Stroum Center for Jewish Studies":MAILTO:jewishst@uw.edu
END:VEVENT
BEGIN:VEVENT
DTSTART;TZID=America/Los_Angeles:20151105T153000
DTEND;TZID=America/Los_Angeles:20151105T170000
DTSTAMP:20260424T042833
CREATED:20151019T225620Z
LAST-MODIFIED:20151104T032302Z
UID:18496-1446737400-1446742800@jewishstudies.washington.edu
SUMMARY:Holocaust History and Survivor Testimony: The Case of the Starachowice Factory Slave Labor Camps
DESCRIPTION:The University of Washington Department of History and the Stroum Center for Jewish Studies are proud to present a lecture by Visiting Scholar\, Prof. Christopher Browning. \n  \nChristopher R. Browning is the Giovanni Costigan Visiting Professor of History at the University of Washington and the Frank Porter Graham Professor History Emeritus at the University of North Carolina at Chapel Hill. Previously he taught at the Pacific Lutheran University in Tacoma. He is the author of eight books\, including Ordinary Men\, The Origins of the Final Solution\, and Remembering Survival\, all three of which received the National Jewish Book Award – Holocaust Category. He has served as an expert witness in “war crimes” trials in Australia\, Canada\, and Great Britain as well as in two “Holocaust denial” cases: the second Zundel trail in Toronto in 1988 and in David Irving’s libel suit against Deborah Lipstadt in London in 2000.
URL:https://jewishstudies.washington.edu/event/christopher-browning/
LOCATION:Communications 120\, UW Campus\, University of Washington\, Seattle\, WA\, 98105\, United States
ATTACH;FMTTYPE=image/jpeg:https://jewishstudies.washington.edu/wp-content/uploads/2015/10/Browning-headshot.jpg
END:VEVENT
BEGIN:VEVENT
DTSTART;TZID=America/Los_Angeles:20151110T130000
DTEND;TZID=America/Los_Angeles:20151110T140000
DTSTAMP:20260424T042833
CREATED:20151013T215633Z
LAST-MODIFIED:20180707T010705Z
UID:18464-1447160400-1447164000@jewishstudies.washington.edu
SUMMARY:Tea and Discussion with Prof. Naomi Sokoloff
DESCRIPTION:Access students and community members are invited to join Naomi Sokoloff\, Professor of Hebrew and Comparative Literature\, to discuss two Hebrew poems in translation in an informal setting. The poems that will be discussed were covered in “Prayer and Poetry in the Jewish and Islamic Traditions\,” an inspiring new course Prof. Sokoloff co-taught last winter with Prof. Samad Alavi\, Assistant Professor of Persian Civilization.\nTea\, coffee and cookies will be provided.\nRSVPs appreciated.
URL:https://jewishstudies.washington.edu/event/access-students-and-community-members-tea-and-discussion-with-prof-naomi-sokoloff/
LOCATION:HUB 307\, 4001 E Stevens Way NE\, Seattle\, US
ATTACH;FMTTYPE=image/jpeg:https://jewishstudies.washington.edu/wp-content/uploads/2015/10/Naomi-Sokoloff-from-prayer-and-poetry.jpg
ORGANIZER;CN="Stroum Center for Jewish Studies":MAILTO:jewishst@uw.edu
END:VEVENT
BEGIN:VEVENT
DTSTART;TZID=America/Los_Angeles:20151112T170000
DTEND;TZID=America/Los_Angeles:20151112T183000
DTSTAMP:20260424T042833
CREATED:20150903T214756Z
LAST-MODIFIED:20180707T010653Z
UID:18001-1447347600-1447353000@jewishstudies.washington.edu
SUMMARY:A Brief Stop on the Road from Auschwitz
DESCRIPTION:On August 2\, 1947 a young man gets off a train in a small Swedish town to begin his life anew. Having endured the ghetto of Lodz\, the death camp at Auschwitz-Birkenau\, the slave camps and transports during the final months of Nazi Germany\, his final challenge is to survive the survival.\nJoin Göran Rosenberg as he discusses his intelligent and deeply moving book\, A Brief Stop on the Road from Auschwitz\, in which he returns to his own childhood to tell the story of his father: walking at his side\, holding his hand\, trying to get close to him. It is also the story of the chasm between the world of the child\, permeated by the optimism\, progress\, and collective oblivion of postwar Sweden\, and the world of the father\, darkened by the long shadows of the past.\nWant to learn more about A Brief Stop on the Road from Auschwitz? Check out Roger Cohen’s New York Times review of this award-winning book\, “Where the Road From Auschwitz Ends.”\n \n \nGöran Rosenberg  was born in Sweden in 1948 and is one of Sweden’s best known authors. In 1970 he left academia to work as a journalist for Swedish television\, radio\, and print. He is the author of several books\, including the highly acclaimed The Lost Land: A Personal History of Zionism and Messianism and The State of Israel.
URL:https://jewishstudies.washington.edu/event/a-brief-stop-on-the-road-from-auschwitz/
LOCATION:HUB 340\, University of Washington HUB\, Seattle\, WA\, 98195\, US
ATTACH;FMTTYPE=image/jpeg:https://jewishstudies.washington.edu/wp-content/uploads/2015/09/Brief-Stop-Cover-e1441316236866.jpg
END:VEVENT
BEGIN:VEVENT
DTSTART;TZID=America/Los_Angeles:20151117T180000
DTEND;TZID=America/Los_Angeles:20151117T193000
DTSTAMP:20260424T042833
CREATED:20151016T233323Z
LAST-MODIFIED:20180707T010705Z
UID:18470-1447783200-1447788600@jewishstudies.washington.edu
SUMMARY:Zionism\, the Novel\, and Contemporary Debates
DESCRIPTION:Scholars for Peace in the Middle East presents: Zionism\, the Novel\, and Contemporary Debates\nScholars of literature can teach about the Middle East and contribute to debates about the Israeli/Palestinian conflict by analyzing novels by Israelis\, Palestinians\, and others. This lecture will show what novels by A.M. Klein\, Sayed Kashua\, and Howard Jacobson can teach us about the conflict\, about novels\, and about ourselves.\nDr. Russell Berman\, Walter A. Haas Professor in the Humanities\, Stanford University\, is a distinguished professor of Comparative Literature and German Studies. He has served as President of the Modern Language Association (MLA) in 2011. He is also a Senior Fellow at the Hoover Institution.\nFree and open to the public. Light reception to follow.\nPlease contact neareast@uw.edu with questions.\n \nCo-sponsors: Jackson School of International Studies\, Simpson Center for the Humanities\, and the Stroum Center for Jewish Studies; the Departments of English\, Near Eastern Languages and Civilization\, Germanics\, and Comparative Literature\, Cinema\, and Media; and Hillel UW.\nSponsorship of this event does not imply endorsement of the content of the lecture.
URL:https://jewishstudies.washington.edu/event/berman/
LOCATION:Kane Hall 220\, 4069 Spokane Ln\, Seattle\, WA\, 98195\, US
ATTACH;FMTTYPE=image/jpeg:https://jewishstudies.washington.edu/wp-content/uploads/2015/10/15037-berman_news-e1445038257316.jpg
END:VEVENT
BEGIN:VEVENT
DTSTART;TZID=America/Los_Angeles:20151118T190000
DTEND;TZID=America/Los_Angeles:20151118T203000
DTSTAMP:20260424T042833
CREATED:20150903T195502Z
LAST-MODIFIED:20201221T155240Z
UID:17993-1447873200-1447878600@jewishstudies.washington.edu
SUMMARY:Jewish Peoplehood: An American Innovation
DESCRIPTION:Although fewer American Jews today describe themselves as religious\, they overwhelmingly report a strong sense of belonging to the Jewish people. Indeed\, Jewish peoplehood has eclipsed religion—as well as ethnicity and nationality—as the essence of what binds Jews around the globe to one another. In this exciting book launch event\, Prof. Noam Pianko will highlight the current significance and future relevance of “peoplehood” by tracing the rise\, transformation\, and return of this novel term. \nFind out more about Prof. Pianko’s book Jewish Peoplehood: An American Innovation! \nLight Kosher reception to follow book reading. Prof. Noam Pianko is the Samuel N. Stroum Chair of Jewish Studies and Associate Professor in the Jackson School of International Studies. Pianko also directs the Samuel and Althea Stroum Center for Jewish Studies and serves as the Herbert and Lucy Pruzan Professor of Jewish Studies. He received his Ph.D. in Religious Studies/Judaic Studies from Yale University in 2004 and joined the Jackson School faculty as an Assistant Professor in the fall of that year. Prof. Pianko’s research interests include modern Jewish history\, Zionism\, and American Judaism. \n 
URL:https://jewishstudies.washington.edu/event/jewish-peoplehood-an-american-innovation/
LOCATION:University Book Store – Seattle\, 4326 University Way Northeast\, Seattle\, WA\, 98105
ATTACH;FMTTYPE=image/jpeg:https://jewishstudies.washington.edu/wp-content/uploads/2018/07/8eb6d6fd4271f0863cff6e877382b453.jpg
ORGANIZER;CN="Stroum Center for Jewish Studies":MAILTO:jewishst@uw.edu
END:VEVENT
BEGIN:VEVENT
DTSTART;TZID=America/Los_Angeles:20151121T193000
DTEND;TZID=America/Los_Angeles:20151121T210000
DTSTAMP:20260424T042833
CREATED:20151113T194632Z
LAST-MODIFIED:20170724T211939Z
UID:18845-1448134200-1448139600@jewishstudies.washington.edu
SUMMARY:Baladino in Concert at SJCC
DESCRIPTION:With its members hailing from Berlin and Tel Aviv\, Baladino is a Mediterranean folk band that offers fresh\, yet deeply authentic interpretations of Sephardic and Ladino melodies and brings this tradition back into full\, fresh dialogue with its trans-Mediterranean past\, using extended technique\, subtle electronics and improvisation to dust off the predominant heavy-handed approach to Ladino music. With stunning vocals\, unexpected instruments\, and a pitch-perfect sense of arrangement\, the Israeli group melds everything from Egyptian darbuka to Armenian duduk\, from Ladino classics to rarely heard tunes\, into a sonically vibrant\, organic whole. During Baladino’s live performances\, songs often form a jumping-off point for instrumental improvisations driven by Mediterranean-Gypsy grooves\, yet embracing rock and electronic influences. \n  \n \n  \nTo purchase tickets and find out more\, please visit the Stroum Jewish Community Center online! \nSTUDENTS: Get $5 off your tickets using this promo code: UW5OFF \n  \nOrganized by the Stroum Jewish Community Center
URL:https://jewishstudies.washington.edu/event/baladino-in-concert-at-sjcc/
LOCATION:WA
CATEGORIES:Sephardic Studies
ATTACH;FMTTYPE=image/jpeg:https://jewishstudies.washington.edu/wp-content/uploads/2015/11/Baladino.jpg
END:VEVENT
END:VCALENDAR