BEGIN:VCALENDAR
VERSION:2.0
PRODID:-//UW Stroum Center for Jewish Studies - ECPv6.15.17.1//NONSGML v1.0//EN
CALSCALE:GREGORIAN
METHOD:PUBLISH
X-ORIGINAL-URL:https://jewishstudies.washington.edu
X-WR-CALDESC:Events for UW Stroum Center for Jewish Studies
REFRESH-INTERVAL;VALUE=DURATION:PT1H
X-Robots-Tag:noindex
X-PUBLISHED-TTL:PT1H
BEGIN:VTIMEZONE
TZID:America/Los_Angeles
BEGIN:DAYLIGHT
TZOFFSETFROM:-0800
TZOFFSETTO:-0700
TZNAME:PDT
DTSTART:20150308T100000
END:DAYLIGHT
BEGIN:STANDARD
TZOFFSETFROM:-0700
TZOFFSETTO:-0800
TZNAME:PST
DTSTART:20151101T090000
END:STANDARD
BEGIN:DAYLIGHT
TZOFFSETFROM:-0800
TZOFFSETTO:-0700
TZNAME:PDT
DTSTART:20160313T100000
END:DAYLIGHT
BEGIN:STANDARD
TZOFFSETFROM:-0700
TZOFFSETTO:-0800
TZNAME:PST
DTSTART:20161106T090000
END:STANDARD
BEGIN:DAYLIGHT
TZOFFSETFROM:-0800
TZOFFSETTO:-0700
TZNAME:PDT
DTSTART:20170312T100000
END:DAYLIGHT
BEGIN:STANDARD
TZOFFSETFROM:-0700
TZOFFSETTO:-0800
TZNAME:PST
DTSTART:20171105T090000
END:STANDARD
END:VTIMEZONE
BEGIN:VEVENT
DTSTART;TZID=America/Los_Angeles:20160113T180000
DTEND;TZID=America/Los_Angeles:20160113T190000
DTSTAMP:20260424T014320
CREATED:20151215T175249Z
LAST-MODIFIED:20151217T181006Z
UID:19231-1452708000-1452711600@jewishstudies.washington.edu
SUMMARY:STUDENT-ONLY Event: Jewish Studies Student Advisory Council Meeting
DESCRIPTION:The Jewish Studies Advisory Council (JSSAC) is a non-religious and non-political organization at UW that serves as a liaison between students and Stroum Center for Jewish Studies faculty and staff. The council provides a forum for student input and ideas\, and offers students the opportunity to build leadership skills and gain mentorship in curriculum development and organizational management. JSSAC also builds community and friendships among students who are interested in Jewish Studies at the University of Washington. Undergraduate and graduate students from all backgrounds and majors with an interest in Jewish Studies are welcome to join. \nFree dinner is provided! RSVPs appreciated so we can order the right amount of food. Please RSVP to Lauren Kurland at lkurland@uw.edu.
URL:https://jewishstudies.washington.edu/event/student-only-event-jewish-studies-student-advisory-council-meeting/
LOCATION:HUB 238\, Husky Union Building\, University of Washington\, Seattle\, 98195
ATTACH;FMTTYPE=image/jpeg:https://jewishstudies.washington.edu/wp-content/uploads/2014/08/SCJS_WebsiteHeaders_PHOTO_Students.jpg
END:VEVENT
BEGIN:VEVENT
DTSTART;TZID=America/Los_Angeles:20160114T110000
DTEND;TZID=America/Los_Angeles:20160114T123000
DTSTAMP:20260424T014320
CREATED:20151204T001349Z
LAST-MODIFIED:20180707T010707Z
UID:19130-1452769200-1452774600@jewishstudies.washington.edu
SUMMARY:Lunch and Learn: Marty Jaffee’s E-book of Sifre Devarim
DESCRIPTION:The Stroum Center is delighted to launch its very first e-book publication: Prof. Marty Jaffee’s new translation of the fascinating Sifre Devarim\, a 4th-century compilation of rabbinic oral commentaries on Deuteronomy. Jaffee’s masterpiece uniquely captures the spoken dimension of the original text\, bringing a fresh\, often poetic perspective to a seminal piece of the biblical canon. \nParts of the Sifre Devarim were found in the Cairo Geniza\, a hidden cache of sacred texts and fragments discovered in a storage room in Cairo\, Egypt. The scholar Solomon Schechter\, pictured above in 1895\, helped to bring these valuable texts to light and is pictured on the cover of Prof. Jaffee’s e-book.\nRead a news piece about this exciting digital project: Marty Jaffee Brings Rabbinic Voices from the Cairo Geniza to the E-book.\nOur event celebrating Prof. Jaffee’s new work will feature a panel and discussion with two of Seattle’s premier Jewish educators: Beth Huppin of Jewish Family Service\, and Rabbi Adam Rubin of Congregation Beth Shalom. They will address how to utilize the book as a resource from the dual perspectives of teacher and student.\nA light kosher luncheon will be served at this event.\n \nMarty Jaffee\, Professor Emeritus at the UW\, is a renowned scholar of the Oral Torah and rabbinic Judaism. He received his PhD in Religious Studies from Brown University and began teaching at the University of Washington in 1987. Over the course of four decades of teaching and publishing\, he put the UW Jewish Studies and Comparative Religion programs on the national map. Jaffee was elected to the American Society for the Study of Religion in 2004\, and was named a Fellow of the American Academy for Jewish Research in 2010.
URL:https://jewishstudies.washington.edu/event/marty-jaffee-ebook-launch/
LOCATION:Smith Room\, Suzzallo Library\, UW Campus
ATTACH;FMTTYPE=image/jpeg:https://jewishstudies.washington.edu/wp-content/uploads/2015/12/Geniza-Picture-e1449188534849.jpg
ORGANIZER;CN="Stroum Center for Jewish Studies":MAILTO:jewishst@uw.edu
END:VEVENT
BEGIN:VEVENT
DTSTART;TZID=America/Los_Angeles:20160121T170000
DTEND;TZID=America/Los_Angeles:20160121T190000
DTSTAMP:20260424T014320
CREATED:20160111T181627Z
LAST-MODIFIED:20180707T010855Z
UID:19249-1453395600-1453402800@jewishstudies.washington.edu
SUMMARY:STUDENT EVENT: Feasting with Faculty Michael Rosenthal
DESCRIPTION:Get to know Professor Michael Rosenthal\, Chair and Professor of the Department of Philosophy\, and Jewish Studies faculty member\, through informal conversation over dinner.\nProf. Rosenthal teaches and publishes in the areas of early modern philosophy\, ethics\, political philosophy\, and Jewish philosophy. His current research focuses on the philosophy of Benedict (Baruch) Spinoza\, a Dutch philosopher of Sephardic Portuguese origin. Spinoza’s writing lay the groundwork for the 18th-century Enlightenment and modern biblical criticism\, including modern conceptions of the self and the universe.\nJoin us for what is sure to be a delightful evening!\nOpen to undergraduate and graduate students only.\nNo cost but reservations required.
URL:https://jewishstudies.washington.edu/event/student-event-feasting-with-faculty-michaelrosenthal/
LOCATION:Persepolis Grill\, 5517 University Way NE\, Seattle\, WA
ATTACH;FMTTYPE=image/jpeg:https://jewishstudies.washington.edu/wp-content/uploads/2015/06/Michael-Rosenthal-New-Headshot-3-15-e1465519363133.jpg
END:VEVENT
BEGIN:VEVENT
DTSTART;TZID=America/Los_Angeles:20160125T173000
DTEND;TZID=America/Los_Angeles:20160125T190000
DTSTAMP:20260424T014320
CREATED:20151209T062401Z
LAST-MODIFIED:20180707T010708Z
UID:19156-1453743000-1453748400@jewishstudies.washington.edu
SUMMARY:Beyond Hebrew: Zionism and the Politics of Language Diversity in Palestine and Israel
DESCRIPTION:The promotion of Hebrew\, traditionally a language of Jewish liturgy and study\, as a spoken vernacular\, was a central accomplishment of the Zionist movement in Palestine before Israeli statehood. Viewing twentieth-century history through the lens of language\, author Liora Halperin questions the common narrative of a Zionist move away from multilingualism during the years following World War I\, demonstrating how Jews in Palestine remained connected linguistically by both preference and necessity to a world outside the boundaries of the pro-Hebrew community even as it promoted Hebrew and achieved that language’s dominance.\nThe story of language encounters in Jewish Palestine is a fascinating tale of shifting power relationships\, both locally and globally. Halperin’s absorbing study explores how a young national community was compelled to modify the dictates of Hebrew exclusivity as it negotiated its relationships with its Jewish population\, Palestinian Arabs\, the British\, and others outside the margins of the national project and ultimately came to terms with the limitations of its influence and power in an interconnected world.\nLight Kosher reception to follow lecture.\n \nThe Stroum Center for Jewish Studies is proud to offer this lecture as part of our Winter 2016 series\, Beyond the Binary: Israel Studies Today which welcomes several emerging scholars to share new directions in the field of Israel Studies. Stay tuned for more information!\n \n \nLiora R. Halperin is an Assistant Professor in the Department of History and the Program in Jewish Studies and the holder of the Endowed Professorship in Israel/Palestine Studies at the University of Colorado Boulder\, where she has taught since 2013. Her research focuses on Jewish cultural history\, Jewish-Arab relations in Ottoman and Mandate Palestine\, language ideology and policy\, and the politics surrounding nation formation in Palestine in the years leading up to the creation of the State of Israel in 1948. She is also a member of the advisory board for CU’s Archive of Post-Holocaust American Judaism\, and affiliated faculty in Middle Eastern Studies at the CU Center for Asian Studies.\n 
URL:https://jewishstudies.washington.edu/event/israel-halperin/
LOCATION:HUB 214\, UW Seattle Campus\, 4001 E Stevens Way NE\, Seattle\, WA\, 98195\, United States
ATTACH;FMTTYPE=image/jpeg:https://jewishstudies.washington.edu/wp-content/uploads/2015/12/liora-halpering-book-cover-e1449642749764.jpg
ORGANIZER;CN="Stroum Center for Jewish Studies":MAILTO:jewishst@uw.edu
END:VEVENT
BEGIN:VEVENT
DTSTART;TZID=America/Los_Angeles:20160128T173000
DTEND;TZID=America/Los_Angeles:20160128T190000
DTSTAMP:20260424T014320
CREATED:20151203T202309Z
LAST-MODIFIED:20180707T010706Z
UID:17952-1454002200-1454007600@jewishstudies.washington.edu
SUMMARY:Syrian Jews in Brooklyn: How Their Sabbath Morning Music Reflects Their Arab History and Culture
DESCRIPTION:Syrian Jews have lived in Brooklyn since the 1880s. Today their community is estimated to be over 70\,000. With twenty synagogues and twenty other institutions\, the Syrian Jewish community in Brooklyn is thriving. For hundreds of years Syrian Jewish prayer has incorporated the melodies and musical styles of Arab culture. In this presentation\, Prof. Mark Kligman will discuss their history\, the Brooklyn community and the musical practices of their Sabbath morning services.  This presentation will show video and audio examples that will demonstrate contemporary practices of Syrian prayer.\n \nProf. Mark Kligman\, is the inaugural holder of the Mickey Katz Endowed Chair in Jewish Music and Professor of Ethnomusicology and Musicology at UCLA in the Herb Alpert School of Music. He specializes in the liturgical traditions of Middle Eastern Jewish communities and various areas of popular Jewish music.\n \nIn addition to his visit to UW\, Prof. Kligman will be giving several lectures throughout the Seattle Jewish community. For more information about “Shabbat of Learning with Dr. Mark Kligman” at Congregation Ezra Bessaroth and Minyan Ohr Chadash\, please contact Karen Treiger at karen@treiger.com
URL:https://jewishstudies.washington.edu/event/syrian-jews-in-brooklyn/
LOCATION:Ethnic Cultural Center\, 3931 Brooklyn Ave NE\, Seattle\, WA\, 98105\, US
CATEGORIES:Sephardic Studies
ATTACH;FMTTYPE=image/jpeg:https://jewishstudies.washington.edu/wp-content/uploads/2018/07/3263846ab275d1e8fa2e5afa9617e912.jpg
ORGANIZER;CN="UW Stroum Center for Jewish Studies":MAILTO:jewishst@uw.edu
END:VEVENT
END:VCALENDAR