BEGIN:VCALENDAR
VERSION:2.0
PRODID:-//UW Stroum Center for Jewish Studies - ECPv6.15.17.1//NONSGML v1.0//EN
CALSCALE:GREGORIAN
METHOD:PUBLISH
X-ORIGINAL-URL:https://jewishstudies.washington.edu
X-WR-CALDESC:Events for UW Stroum Center for Jewish Studies
REFRESH-INTERVAL;VALUE=DURATION:PT1H
X-Robots-Tag:noindex
X-PUBLISHED-TTL:PT1H
BEGIN:VTIMEZONE
TZID:America/Los_Angeles
BEGIN:DAYLIGHT
TZOFFSETFROM:-0800
TZOFFSETTO:-0700
TZNAME:PDT
DTSTART:20150308T100000
END:DAYLIGHT
BEGIN:STANDARD
TZOFFSETFROM:-0700
TZOFFSETTO:-0800
TZNAME:PST
DTSTART:20151101T090000
END:STANDARD
BEGIN:DAYLIGHT
TZOFFSETFROM:-0800
TZOFFSETTO:-0700
TZNAME:PDT
DTSTART:20160313T100000
END:DAYLIGHT
BEGIN:STANDARD
TZOFFSETFROM:-0700
TZOFFSETTO:-0800
TZNAME:PST
DTSTART:20161106T090000
END:STANDARD
BEGIN:DAYLIGHT
TZOFFSETFROM:-0800
TZOFFSETTO:-0700
TZNAME:PDT
DTSTART:20170312T100000
END:DAYLIGHT
BEGIN:STANDARD
TZOFFSETFROM:-0700
TZOFFSETTO:-0800
TZNAME:PST
DTSTART:20171105T090000
END:STANDARD
END:VTIMEZONE
BEGIN:VEVENT
DTSTART;TZID=America/Los_Angeles:20160302T173000
DTEND;TZID=America/Los_Angeles:20160302T193000
DTSTAMP:20260423T230628
CREATED:20160201T181211Z
LAST-MODIFIED:20181102T193643Z
UID:19688-1456939800-1456947000@jewishstudies.washington.edu
SUMMARY:STUDENT EVENT: Feasting with Faculty: Profs. Mika Ahuvia and Sarah Culpepper Stroup
DESCRIPTION:Beyond the Gender Binary\nJoin Professor Mika Ahuvia (Assistant Professor of Classical Judaism\, Jackson School of International Studies) and Professor Sarah Culpepper Stroup (Associate Professor of Classics) for an informal conversation about ancient texts that go “beyond the gender binary.” \nOpen to undergraduate and graduate students only. \nFree vegetarian dinner provided. \nNo cost but reservations required. This event is limited to 30 students. \nThis event co-sponsored with the Religious Studies Club of UW.
URL:https://jewishstudies.washington.edu/event/feasting-with-faculty-profs-mika-ahuvia-and-sarah-stroup/
LOCATION:Thomson 317\, UW Campus\, 2023 Skagit Lane\, Seattle\, WA\, 98195\, United States
CATEGORIES:Student
ATTACH;FMTTYPE=image/jpeg:https://jewishstudies.washington.edu/wp-content/uploads/2016/02/Chagall-image.jpg
END:VEVENT
BEGIN:VEVENT
DTSTART;TZID=America/Los_Angeles:20160308T120000
DTEND;TZID=America/Los_Angeles:20160308T133000
DTSTAMP:20260423T230628
CREATED:20160115T010332Z
LAST-MODIFIED:20160225T194305Z
UID:19407-1457438400-1457443800@jewishstudies.washington.edu
SUMMARY:"Dr. Loewenstein\, I Presume?": Israeli Eye Aid to Africa\, 1959-1973
DESCRIPTION:Israel was involved in multiple foreign aid projects to sub-Saharan Africa in the 1960s as part of its quest to gain political allies and determine its place in the decolonized world. Dr. Mooreville will address how and why ophthalmology became Israel’s largest medical aid program\, and in so doing address Israel’s claims to be a bridgehead between East and West\, and its short-lived affiliation with the Global South. She investigates the historic symbolic significance of trachoma in Palestine\, Africa as an extra-territorial site of pioneering that provided new clinical and research experiences\, and how one physician took advantage of diplomatic policies to create an aid project that fulfilled his professional vision. \n  \nAnat Mooreville is the Hazel D. Cole Postdoctoral Fellow in the Stroum Center for Jewish Studies at the University of Washington\, Seattle. Her research concentrates on Jewish history in the Middle East and North Africa\, the history of medicine and science\, and Israel-Palestine studies. She received her Ph.D. in History at UCLA in 2015 with the dissertation\, “Oculists in the Orient: A History of Trachoma\, Zionism\, and Global Health\, 1882-1973.” \n  \n  \nA light Kosher lunch will be provided. \n  \n  \nThe Stroum Center for Jewish Studies is proud to offer this lecture as part of our Winter 2016 series\, Beyond the Binary: Israel Studies Today which welcomes several emerging scholars to share new directions in the field of Israel Studies.
URL:https://jewishstudies.washington.edu/event/israeli-eye-aid-to-africa/
LOCATION:HUB 332\, Husky Union Building\, University of Washington\, Seattle\, WA\, 98195\, United States
ATTACH;FMTTYPE=image/jpeg:https://jewishstudies.washington.edu/wp-content/uploads/2016/01/levin_israel_and_the_developing_world_pdf.jpg
ORGANIZER;CN="Stroum Center for Jewish Studies":MAILTO:jewishst@uw.edu
END:VEVENT
END:VCALENDAR