BEGIN:VCALENDAR
VERSION:2.0
PRODID:-//UW Stroum Center for Jewish Studies - ECPv6.15.17.1//NONSGML v1.0//EN
CALSCALE:GREGORIAN
METHOD:PUBLISH
X-ORIGINAL-URL:https://jewishstudies.washington.edu
X-WR-CALDESC:Events for UW Stroum Center for Jewish Studies
REFRESH-INTERVAL;VALUE=DURATION:PT1H
X-Robots-Tag:noindex
X-PUBLISHED-TTL:PT1H
BEGIN:VTIMEZONE
TZID:America/Los_Angeles
BEGIN:DAYLIGHT
TZOFFSETFROM:-0800
TZOFFSETTO:-0700
TZNAME:PDT
DTSTART:20150308T100000
END:DAYLIGHT
BEGIN:STANDARD
TZOFFSETFROM:-0700
TZOFFSETTO:-0800
TZNAME:PST
DTSTART:20151101T090000
END:STANDARD
BEGIN:DAYLIGHT
TZOFFSETFROM:-0800
TZOFFSETTO:-0700
TZNAME:PDT
DTSTART:20160313T100000
END:DAYLIGHT
BEGIN:STANDARD
TZOFFSETFROM:-0700
TZOFFSETTO:-0800
TZNAME:PST
DTSTART:20161106T090000
END:STANDARD
BEGIN:DAYLIGHT
TZOFFSETFROM:-0800
TZOFFSETTO:-0700
TZNAME:PDT
DTSTART:20170312T100000
END:DAYLIGHT
BEGIN:STANDARD
TZOFFSETFROM:-0700
TZOFFSETTO:-0800
TZNAME:PST
DTSTART:20171105T090000
END:STANDARD
END:VTIMEZONE
BEGIN:VEVENT
DTSTART;TZID=America/Los_Angeles:20161005T123000
DTEND;TZID=America/Los_Angeles:20161005T132000
DTSTAMP:20260423T142810
CREATED:20160826T212352Z
LAST-MODIFIED:20160908T185829Z
UID:22299-1475670600-1475673600@jewishstudies.washington.edu
SUMMARY:LSJ Lox and Learn: Jewish Bioethics
DESCRIPTION:LSJ students are invited to speak with Hadar Khazzam-Horovitz about Jewish Bioethics. \nThis lecture will explore Jewish-religious perspectives on contemporary biomedical issues. It will focus on some of the key differences between secular and Jewish approaches in interpretation and application of medical ethics. The topics to be discussed include: doctor-patient relationship; euthanasia; and stem cell research. The goal is to promote important discussion of alternative perspectives to ethical evaluations and practices.
URL:https://jewishstudies.washington.edu/event/lsj-lox-learn-jewish-bioethics/
LOCATION:Gates Hall (UW School of Law)
CATEGORIES:Student
ATTACH;FMTTYPE=image/jpeg:https://jewishstudies.washington.edu/wp-content/uploads/2011/10/Hadar-Khazzam-Horovitz-e1454987608176.jpg
END:VEVENT
BEGIN:VEVENT
DTSTART;TZID=America/Los_Angeles:20161013T190000
DTEND;TZID=America/Los_Angeles:20161013T200000
DTSTAMP:20260423T142810
CREATED:20160926T233359Z
LAST-MODIFIED:20160927T002801Z
UID:22533-1476385200-1476388800@jewishstudies.washington.edu
SUMMARY:The Holocaust in the Soviet Union
DESCRIPTION:Dr. Daniel Newman will discuss the experiences of Holocaust victims in the Soviet Union as well as the divisiveness of the memory of the Holocaust in the postwar USSR. Additionally\, he will address the political factors affecting the remembrance of the Holocaust and argue that it is essential to study this horrific tragedy both in the context of Holocaust history and also in the context of politics and conflict in the former USSR. Remembrance of the millions of Jews murdered in the Holocaust proved to be a contentious issue throughout the Soviet period and regrettably remains so today\, with certain political considerations and even possibly anti-Semitic agendas relegating the story of the Jews during the Holocaust to a historical byline at best that is completely absent from the historical record at worst. \nThis event is free and open to the public. No RSVP is necessary. \n \nAbout the Speaker\nDr. Daniel Newman is the Program Manager of the Initiative for the Study of the Holocaust in the Soviet Union at the the United States Holocaust Memorial Museum’s Jack\, Joseph and Morton Mandel Center for Advanced Holocaust Studies. He holds a PhD in modern European history from the University of California\, Los Angeles (UCLA).\n \n 
URL:https://jewishstudies.washington.edu/event/holocaust-in-the-soviet-union/
LOCATION:Kane Hall 110\, 4069 Spokane Lane\, Seattle\, WA\, 98195\, United States
CATEGORIES:Academic Lectures
ATTACH;FMTTYPE=image/png:https://jewishstudies.washington.edu/wp-content/uploads/2016/09/Soviet-Union-e1474933192323.png
ORGANIZER;CN="Ellison Center for Russian%2C East European and Central Asian Studies":MAILTO:reecas@uw.edu
END:VEVENT
BEGIN:VEVENT
DTSTART;TZID=America/Los_Angeles:20161027T190000
DTEND;TZID=America/Los_Angeles:20161027T210000
DTSTAMP:20260423T142810
CREATED:20160908T203645Z
LAST-MODIFIED:20160908T203728Z
UID:22391-1477594800-1477602000@jewishstudies.washington.edu
SUMMARY:Immigration\, Religion & Human Rights Panel
DESCRIPTION:Should our country discriminate among potential immigrants on the basis of religion? Our policy has been not to do so. But there have been recent calls by prominent politicians to change that practice. Our panelists will discuss this and related questions from philosophical\, sociological\, and historical perspectives. \nModerator:\nMichael Rosenthal\, Professor of Philosophy and Samuel and Althea Stroum Chair in Jewish Studies\, UW Seattle \nParticipants:\nMichael Blake\, Professor of Philosophy\, Public Policy\, and Governance\, Department of Philosophy and Daniel J. Evans School of Public Policy and Governance\, UW Seattle \nSarah Eltantawi\, Assistant Professor of Comparative Religion and Islamic Studies\, Evergreen State College \nKathie Friedman\, Associate Professor\, Henry M. Jackson School of International Studies\, UW Seattle \nThomas Schmidt\, Professor of Philosophy of Religion\, Department of Catholic Theology\, Goethe University\, Frankfurt\, Germany \nThis panel is part of a conference\, “Immigration\, Toleration\, and Human Rights\,” which will take place on October 27-28th. Please see the Simpson Center website for more details: https://simpsoncenter.org/projects/immigration-toleration-and-human-rights. \nSponsors: The conference and related events are co-sponsored by the UW Tri-Campus Research Cluster on Human Interactions and Normative Innovation (HI-NORM)\, the Global Innovation Fund of the UW Office of Global Affairs\, the Walter Chapin Simpson Center for the Humanities\, the School of Interdisciplinary Arts & Sciences at UW-Tacoma\, the Department of Philosophy\, the Program on Values in Society\, the Stroum Center for Jewish Studies\, the Friends of Philosophy\, the UW Center for Human Rights\, the MERCUR Research Project: Ethics of Immigration at the Institute for Advanced Study in the Humanities in Essen\, and the Cluster of Excellence: The Formation of Normative Orders at the Goethe University\, Frankfurt\, Germany.
URL:https://jewishstudies.washington.edu/event/immigration-religion-human-rights/
LOCATION:HUB 332\, Husky Union Building\, University of Washington\, Seattle\, WA\, 98195\, United States
CATEGORIES:Academic Lectures
ATTACH;FMTTYPE=image/jpeg:https://jewishstudies.washington.edu/wp-content/uploads/2016/09/Immigration-toleration-human-rights.jpg
END:VEVENT
END:VCALENDAR