BEGIN:VCALENDAR
VERSION:2.0
PRODID:-//UW Stroum Center for Jewish Studies - ECPv6.15.17.1//NONSGML v1.0//EN
CALSCALE:GREGORIAN
METHOD:PUBLISH
X-ORIGINAL-URL:https://jewishstudies.washington.edu
X-WR-CALDESC:Events for UW Stroum Center for Jewish Studies
REFRESH-INTERVAL;VALUE=DURATION:PT1H
X-Robots-Tag:noindex
X-PUBLISHED-TTL:PT1H
BEGIN:VTIMEZONE
TZID:America/Los_Angeles
BEGIN:DAYLIGHT
TZOFFSETFROM:-0800
TZOFFSETTO:-0700
TZNAME:PDT
DTSTART:20160313T100000
END:DAYLIGHT
BEGIN:STANDARD
TZOFFSETFROM:-0700
TZOFFSETTO:-0800
TZNAME:PST
DTSTART:20161106T090000
END:STANDARD
BEGIN:DAYLIGHT
TZOFFSETFROM:-0800
TZOFFSETTO:-0700
TZNAME:PDT
DTSTART:20170312T100000
END:DAYLIGHT
BEGIN:STANDARD
TZOFFSETFROM:-0700
TZOFFSETTO:-0800
TZNAME:PST
DTSTART:20171105T090000
END:STANDARD
BEGIN:DAYLIGHT
TZOFFSETFROM:-0800
TZOFFSETTO:-0700
TZNAME:PDT
DTSTART:20180311T100000
END:DAYLIGHT
BEGIN:STANDARD
TZOFFSETFROM:-0700
TZOFFSETTO:-0800
TZNAME:PST
DTSTART:20181104T090000
END:STANDARD
END:VTIMEZONE
BEGIN:VEVENT
DTSTART;TZID=America/Los_Angeles:20170201T180000
DTEND;TZID=America/Los_Angeles:20170201T190000
DTSTAMP:20260423T091315
CREATED:20161031T222608Z
LAST-MODIFIED:20180707T010832Z
UID:22845-1485972000-1485975600@jewishstudies.washington.edu
SUMMARY:Medicine & Medical Ethics After the Holocaust
DESCRIPTION:In this public lecture\, Dr. Sheldon Rubenfeld of the Baylor College of Medicine will speak on how medicine and medical ethics were challenged and affected by the Holocaust.\nGerman physicians embraced eugenics\, a worldwide movement in the first three decades of the twentieth century\, transformed the Hippocratic Oath from a doctor-patient relationship into a StateVolkskörper relationship\, and developed a politicized philosophy of medicine called “Applied Biology.” Hitler refashioned these ideas into public health policies such as involuntary sterilization\, the Nuremberg Laws\, and involuntary euthanasia.\nThe United States was the world leader in eugenics\, providing moral\, legal\, and philanthropic support to the Third Reich. After the end of World War II and the Nuremberg Medical Trial\, the United States dismissed the behavior of German medical professionals as an irrelevant aberration\, developed comforting but false myths about medicine and the Holocaust\, and failed to examine her own eugenic past and its implication for contemporary medicine.\nThis lecture will review this history and challenge medical professionals and healthcare policy makers to personally confront the bioethics of the Holocaust and apply that knowledge to contemporary medicine.\nDr. Sheldon Rubenfeld is the editor of Medicine After the Holocaust: From the Master Race to the Human Genome and Beyond (Palgrave\, 2010). Dr. Rubenfeld is Clinical Professor of Medicine at Baylor College of Medicine\, Clinical Professor of Nursing at the University of Texas School of Nursing in Houston\, and a Fellow in the American College of Endocrinology. He has taught courses on medical ethics and the Holocaust at the Baylor College of Medicine and the University of Texas Medical School at Houston\, and publishes and lectures throughout the world on both subjects. Dr. Rubenfeld is the founding chairman of the Center for Medicine After the Holocaust. Among other activities\, the Center hosts a biennial trip to European medical sites relevant to the Holocaust\, and is preparing a documentary about medicine and the Holocaust. In April of 2015 Dr. Rubenfeld convened the First International Scholars Workshop on Medicine After the Holocaust to promote medicine and the Holocaust as an academic discipline in medical centers throughout the world.
URL:https://jewishstudies.washington.edu/event/medicine-medical-ethics-holocaust/
LOCATION:Thomson Hall 101\, 2023 King Lane\, Seattle\, WA\, 98195\, United States
CATEGORIES:Academic Lectures
ATTACH;FMTTYPE=image/png:https://jewishstudies.washington.edu/wp-content/uploads/2016/10/Screen-Shot-2016-12-22-at-1.32.36-PM.png
END:VEVENT
END:VCALENDAR