BEGIN:VCALENDAR
VERSION:2.0
PRODID:-//UW Stroum Center for Jewish Studies - ECPv6.15.17.1//NONSGML v1.0//EN
CALSCALE:GREGORIAN
METHOD:PUBLISH
X-WR-CALNAME:UW Stroum Center for Jewish Studies
X-ORIGINAL-URL:https://jewishstudies.washington.edu
X-WR-CALDESC:Events for UW Stroum Center for Jewish Studies
REFRESH-INTERVAL;VALUE=DURATION:PT1H
X-Robots-Tag:noindex
X-PUBLISHED-TTL:PT1H
BEGIN:VTIMEZONE
TZID:America/Los_Angeles
BEGIN:DAYLIGHT
TZOFFSETFROM:-0800
TZOFFSETTO:-0700
TZNAME:PDT
DTSTART:20160313T100000
END:DAYLIGHT
BEGIN:STANDARD
TZOFFSETFROM:-0700
TZOFFSETTO:-0800
TZNAME:PST
DTSTART:20161106T090000
END:STANDARD
BEGIN:DAYLIGHT
TZOFFSETFROM:-0800
TZOFFSETTO:-0700
TZNAME:PDT
DTSTART:20170312T100000
END:DAYLIGHT
BEGIN:STANDARD
TZOFFSETFROM:-0700
TZOFFSETTO:-0800
TZNAME:PST
DTSTART:20171105T090000
END:STANDARD
BEGIN:DAYLIGHT
TZOFFSETFROM:-0800
TZOFFSETTO:-0700
TZNAME:PDT
DTSTART:20180311T100000
END:DAYLIGHT
BEGIN:STANDARD
TZOFFSETFROM:-0700
TZOFFSETTO:-0800
TZNAME:PST
DTSTART:20181104T090000
END:STANDARD
END:VTIMEZONE
BEGIN:VEVENT
DTSTART;TZID=America/Los_Angeles:20170406T120000
DTEND;TZID=America/Los_Angeles:20170406T133000
DTSTAMP:20260423T063946
CREATED:20160728T232859Z
LAST-MODIFIED:20170324T214131Z
UID:22139-1491480000-1491485400@jewishstudies.washington.edu
SUMMARY:Lunch and Learn with Prof. Jeffrey Herf
DESCRIPTION:Undeclared Wars with Israel:  East Germany and the West German Far Left\, 1967-1989  examines a spectrum of antagonism by the East German government and West German radical leftist organizations – ranging from hostile propaganda and diplomacy to military support for Israel’s Arab armed adversaries – from 1967 to the end of the Cold War in 1989. The book is about ideas and politics as well as details of arms deliveries and military training. \nVegetarian lunch provided. \n  \nProf. Jeffrey Herf is Distinguished University Professor in the Department of History at the University of Maryland\, College Park. \n  \n\n \nPowered by Eventbrite
URL:https://jewishstudies.washington.edu/event/jeffrey-herf/
LOCATION:HUB 214\, UW Seattle Campus\, 4001 E Stevens Way NE\, Seattle\, WA\, 98195\, United States
CATEGORIES:Academic Lectures
ATTACH;FMTTYPE=image/jpeg:https://jewishstudies.washington.edu/wp-content/uploads/2016/07/Herf-Undeclared-Wars-e1469750136998.jpg
ORGANIZER;CN="UW Stroum Center for Jewish Studies":MAILTO:jewishst@uw.edu
END:VEVENT
BEGIN:VEVENT
DTSTART;TZID=America/Los_Angeles:20170420T123000
DTEND;TZID=America/Los_Angeles:20170420T134500
DTSTAMP:20260423T063946
CREATED:20170324T195343Z
LAST-MODIFIED:20170417T171804Z
UID:24531-1492691400-1492695900@jewishstudies.washington.edu
SUMMARY:Lunch and Learn with Dr. Federica Francesconi
DESCRIPTION:The Stroum Center is proud to host Dr. Francesconi’s lunchtime talk\, “The Italian Jewish Household in the Early Modern Mediterranean\,” with a response from Dr. Rena Lauer. Complimentary falafel lunch to be provided. Please RSVP to ensure enough food. \n \nFederica Francesconi (PhD\, University of Haifa) is Assistant Professor of History and the Howard Berger-Ray Neilsen Chair in Judaic Studies at The College of Idaho. Her research and publications address the social\, religious\, and cultural aspects of the early modern history of Jews in Italy\, focusing on the multifaceted politics and dynamics of ghetto life. She has held fellowships at the University of Pennsylvania\, the University of California\, Los Angeles\, and the University of Oxford. She has just completed a monograph\, Invisible Enlighteners: Modenese Jewry from the Renaissance to Emancipation. Her new book project is tentatively entitled “Cosmopolitan Intimacy: Jewish Spaces as Crossroads for Multi-Religious Communities in Early Modern Italy.” \n  \nRespondent Rena Lauer (PhD\, Harvard) studies minority life on the borders of medieval Christendom and cross-cultural contacts in the late medieval Mediterranean. Her current book project is a social history of the Jews of Venetian Crete in the fourteenth and fifteenth centuries\, particularly through the lens of intra-Jewish litigation in the Venetian secular courtroom. \n  \nThis seminar is made possible thanks to the American Academy of Jewish Research. \n\n \nPowered by Eventbrite
URL:https://jewishstudies.washington.edu/event/feasting-faculty-federica-francesconi/
LOCATION:Thomson 317\, UW Campus\, 2023 Skagit Lane\, Seattle\, WA\, 98195\, United States
CATEGORIES:Academic Lectures
ATTACH;FMTTYPE=image/jpeg:https://jewishstudies.washington.edu/wp-content/uploads/2017/03/Federica-Francesconi-web.jpg
ORGANIZER;CN="UW Stroum Center for Jewish Studies":MAILTO:jewishst@uw.edu
END:VEVENT
BEGIN:VEVENT
DTSTART;TZID=America/Los_Angeles:20170425T114500
DTEND;TZID=America/Los_Angeles:20170425T131500
DTSTAMP:20260423T063946
CREATED:20170130T195628Z
LAST-MODIFIED:20170403T210414Z
UID:23973-1493120700-1493126100@jewishstudies.washington.edu
SUMMARY:Screening of "Ha'Ivrim" ("The Writers") and Discussion with Professor Sokoloff
DESCRIPTION:Access Students and community members are invited to join Professor Naomi Sokoloff for a screening of an episode from the Israeli television series Ha’Ivrim (“The Writers”) about the Sephardic cantor and hymnist Rabbi David Buzaglo. \nThe Moroccan-born rabbi\, considered the greatest Hebrew liturgical poet of the 20th century\, took inspiration from all sources\, including even Arab pop music in the synagogue while remaining faithful to a musical tradition dating back to Andalusian Spain. \nProfessor Sokoloff will lead a discussion after the screening. \nPlease bring a lunch; the Stroum Center will provide complimentary tea\, coffee and cookies. \nThe film is in Hebrew with English subtitles. \nCo-sponsored with UW’s Department of Near Eastern Language and Civilization. \n  \n\n \nPowered by Eventbrite
URL:https://jewishstudies.washington.edu/event/screening-haivrim-writers-discussion-professor-sokoloff/
LOCATION:HUB 334\, UW Campus\, 4001 E Stevens Way NE\, Seattle\, WA\, 98195\, United States
ATTACH;FMTTYPE=image/gif:https://jewishstudies.washington.edu/wp-content/uploads/2017/01/mizrach.gif
ORGANIZER;CN="UW Stroum Center for Jewish Studies":MAILTO:jewishst@uw.edu
END:VEVENT
END:VCALENDAR