BEGIN:VCALENDAR
VERSION:2.0
PRODID:-//UW Stroum Center for Jewish Studies - ECPv6.15.17.1//NONSGML v1.0//EN
CALSCALE:GREGORIAN
METHOD:PUBLISH
X-ORIGINAL-URL:https://jewishstudies.washington.edu
X-WR-CALDESC:Events for UW Stroum Center for Jewish Studies
REFRESH-INTERVAL;VALUE=DURATION:PT1H
X-Robots-Tag:noindex
X-PUBLISHED-TTL:PT1H
BEGIN:VTIMEZONE
TZID:America/Los_Angeles
BEGIN:DAYLIGHT
TZOFFSETFROM:-0800
TZOFFSETTO:-0700
TZNAME:PDT
DTSTART:20160313T100000
END:DAYLIGHT
BEGIN:STANDARD
TZOFFSETFROM:-0700
TZOFFSETTO:-0800
TZNAME:PST
DTSTART:20161106T090000
END:STANDARD
BEGIN:DAYLIGHT
TZOFFSETFROM:-0800
TZOFFSETTO:-0700
TZNAME:PDT
DTSTART:20170312T100000
END:DAYLIGHT
BEGIN:STANDARD
TZOFFSETFROM:-0700
TZOFFSETTO:-0800
TZNAME:PST
DTSTART:20171105T090000
END:STANDARD
BEGIN:DAYLIGHT
TZOFFSETFROM:-0800
TZOFFSETTO:-0700
TZNAME:PDT
DTSTART:20180311T100000
END:DAYLIGHT
BEGIN:STANDARD
TZOFFSETFROM:-0700
TZOFFSETTO:-0800
TZNAME:PST
DTSTART:20181104T090000
END:STANDARD
END:VTIMEZONE
BEGIN:VEVENT
DTSTART;TZID=America/Los_Angeles:20170929T103000
DTEND;TZID=America/Los_Angeles:20170929T113000
DTSTAMP:20260423T075619
CREATED:20170810T185232Z
LAST-MODIFIED:20170922T203816Z
UID:25979-1506681000-1506684600@jewishstudies.washington.edu
SUMMARY:Learn Salsa with the Jackson School @ Dawg Daze
DESCRIPTION:¡Vamos a bailar! \nLearn and practice the basic rhythms and footwork of salsa dancing with Reinier Valdes\, an Afro-Cuban master dancer and leader of the “La Clave Cubana” dance troupe. No dance experience or partner necessary. Free snacks. \nEat\, Salsa and be merry! \nSponsored by the Jackson School of International Studies\, the home of the Stroum Center for Jewish Studies.
URL:https://jewishstudies.washington.edu/event/learn-salsa/
LOCATION:HUB 334\, UW Campus\, 4001 E Stevens Way NE\, Seattle\, WA\, 98195\, United States
CATEGORIES:Student
ATTACH;FMTTYPE=image/jpeg:https://jewishstudies.washington.edu/wp-content/uploads/2017/08/clave-1.jpg
END:VEVENT
BEGIN:VEVENT
DTSTART;TZID=America/Los_Angeles:20170929T113000
DTEND;TZID=America/Los_Angeles:20170929T123000
DTSTAMP:20260423T075619
CREATED:20170810T184546Z
LAST-MODIFIED:20170922T204004Z
UID:25976-1506684600-1506688200@jewishstudies.washington.edu
SUMMARY:Talking International Studies @ Dawg Daze
DESCRIPTION:Jewish Studies is one of seven majors offered by the Jackson School of International Studies. \nMeet other International Studies students\, advisers and staff to learn about classes\, internships\, study abroad and career possibilities all over the world. \nWe will have globally-minded food\, fun and prizes. \nUndergraduate\, transfer\, and graduate students welcome. \n 
URL:https://jewishstudies.washington.edu/event/talking-international-studies-dawg-daze/
LOCATION:HUB 334\, UW Campus\, 4001 E Stevens Way NE\, Seattle\, WA\, 98195\, United States
CATEGORIES:Student
ATTACH;FMTTYPE=image/jpeg:https://jewishstudies.washington.edu/wp-content/uploads/2017/08/jackson1.jpg
END:VEVENT
END:VCALENDAR