BEGIN:VCALENDAR
VERSION:2.0
PRODID:-//UW Stroum Center for Jewish Studies - ECPv6.15.17.1//NONSGML v1.0//EN
CALSCALE:GREGORIAN
METHOD:PUBLISH
X-WR-CALNAME:UW Stroum Center for Jewish Studies
X-ORIGINAL-URL:https://jewishstudies.washington.edu
X-WR-CALDESC:Events for UW Stroum Center for Jewish Studies
REFRESH-INTERVAL;VALUE=DURATION:PT1H
X-Robots-Tag:noindex
X-PUBLISHED-TTL:PT1H
BEGIN:VTIMEZONE
TZID:America/Los_Angeles
BEGIN:DAYLIGHT
TZOFFSETFROM:-0800
TZOFFSETTO:-0700
TZNAME:PDT
DTSTART:20120311T100000
END:DAYLIGHT
BEGIN:STANDARD
TZOFFSETFROM:-0700
TZOFFSETTO:-0800
TZNAME:PST
DTSTART:20121104T090000
END:STANDARD
BEGIN:DAYLIGHT
TZOFFSETFROM:-0800
TZOFFSETTO:-0700
TZNAME:PDT
DTSTART:20130310T100000
END:DAYLIGHT
BEGIN:STANDARD
TZOFFSETFROM:-0700
TZOFFSETTO:-0800
TZNAME:PST
DTSTART:20131103T090000
END:STANDARD
BEGIN:DAYLIGHT
TZOFFSETFROM:-0800
TZOFFSETTO:-0700
TZNAME:PDT
DTSTART:20140309T100000
END:DAYLIGHT
BEGIN:STANDARD
TZOFFSETFROM:-0700
TZOFFSETTO:-0800
TZNAME:PST
DTSTART:20141102T090000
END:STANDARD
END:VTIMEZONE
BEGIN:VEVENT
DTSTART;TZID=America/Los_Angeles:20130314T193000
DTEND;TZID=America/Los_Angeles:20130314T210000
DTSTAMP:20260425T110219
CREATED:20121201T013806Z
LAST-MODIFIED:20170831T203355Z
UID:5876-1363289400-1363294800@jewishstudies.washington.edu
SUMMARY:New Voices in World Jewish Music: Guy Mendilow Ensemble
DESCRIPTION:New Voice in World Jewish Music: A Concert with Guy Mendilow Ensemble \nMarch 14\, 2013 \n6:30pm doors\, 7:30pm show. All ages\, mostly seated show \nThe Fremont Abbey Arts Center\n4272 Fremont Ave N.\, Seattle\, WA \nTickets: $10 students\, $12 general\, $15 at the door \nPurchase tickets for advance discount here. \n  \n \nStarting in ancient Spain and winding through Sarajevo\, Salonica and Jerusalem\, the award winning Guy Mendilow Ensemble breathes new life into centuries-old Sephardi songs.  Epic tales of sailors and love lost to the seas\, fantastic dreams and the intrigue of kings and queens abound in arrangements that crackle with rich musical storytelling.  A citizen of Israel\, Great Britain and the United States\, Guy has lived and performed in South Africa\, Israel\, Taiwan\, Canada\, Mexico\, Brazil and the United States. More on the Guy and his ensemble here: https://www.guymendilow.com
URL:https://jewishstudies.washington.edu/event/new-voices-in-world-jewish-music-guy-mendilow-ensemble/
LOCATION:WA
CATEGORIES:Sephardic Studies
ATTACH;FMTTYPE=image/jpeg:https://jewishstudies.washington.edu/wp-content/uploads/2012/11/Guy_Mendilow_Ensemble-On_the_Go-Photo_by_Gretjen_Helene-300dpi.jpg
END:VEVENT
END:VCALENDAR