BEGIN:VCALENDAR
VERSION:2.0
PRODID:-//UW Stroum Center for Jewish Studies - ECPv6.15.17.1//NONSGML v1.0//EN
CALSCALE:GREGORIAN
METHOD:PUBLISH
X-WR-CALNAME:UW Stroum Center for Jewish Studies
X-ORIGINAL-URL:https://jewishstudies.washington.edu
X-WR-CALDESC:Events for UW Stroum Center for Jewish Studies
REFRESH-INTERVAL;VALUE=DURATION:PT1H
X-Robots-Tag:noindex
X-PUBLISHED-TTL:PT1H
BEGIN:VTIMEZONE
TZID:America/Los_Angeles
BEGIN:DAYLIGHT
TZOFFSETFROM:-0800
TZOFFSETTO:-0700
TZNAME:PDT
DTSTART:20120311T100000
END:DAYLIGHT
BEGIN:STANDARD
TZOFFSETFROM:-0700
TZOFFSETTO:-0800
TZNAME:PST
DTSTART:20121104T090000
END:STANDARD
BEGIN:DAYLIGHT
TZOFFSETFROM:-0800
TZOFFSETTO:-0700
TZNAME:PDT
DTSTART:20130310T100000
END:DAYLIGHT
BEGIN:STANDARD
TZOFFSETFROM:-0700
TZOFFSETTO:-0800
TZNAME:PST
DTSTART:20131103T090000
END:STANDARD
BEGIN:DAYLIGHT
TZOFFSETFROM:-0800
TZOFFSETTO:-0700
TZNAME:PDT
DTSTART:20140309T100000
END:DAYLIGHT
BEGIN:STANDARD
TZOFFSETFROM:-0700
TZOFFSETTO:-0800
TZNAME:PST
DTSTART:20141102T090000
END:STANDARD
END:VTIMEZONE
BEGIN:VEVENT
DTSTART;TZID=America/Los_Angeles:20131205T190000
DTEND;TZID=America/Los_Angeles:20131205T210000
DTSTAMP:20260425T133727
CREATED:20131119T062725Z
LAST-MODIFIED:20170901T002700Z
UID:9794-1386270000-1386277200@jewishstudies.washington.edu
SUMMARY:INTERNATIONAL LADINO DAY
DESCRIPTION:The first ever International Ladino Day will be celebrated in Seattle with a program at UW Hillel on Thursday\, December 5\, 2013 at 7 pm. The event is hosted by the Sephardic Studies Program of the Stroum Center for Jewish Studies and the Department of Spanish and Portuguese Studies in collaboration with our local Sephardic community.  \nThis celebration of the Ladino language and Sephardic culture in Seattle and across the world will include poetry readings\, the singing of Ladino songs\, and a brief presentation of the history of Seattle’s Sephardic community. Presenters include community members\, UW undergraduate and graduate students\, and UW faculty. Kosher reception to follow. \nFree and open to the public. Co-sponsored by Congregation Ezra Bessaroth\, Sephardic Bikur Holim\, and the Sephardic Brotherhood. \nSeating is limited. Please register at: https://www.eventbrite.com/e/international-ladino-day-tickets-8881224983 \nBackground on International Ladino Day: \nThe National Authority for Ladino in Jerusalem\, established in 1997 under the direction of the Fifth President of Israel\, a native Ladino-speaker named Yitzchak Navon\, proclaimed December 5th\, 2013 to be the first International Ladino Day throughout the world. It provides an opportunity for Sephardic Jews and their communities\, cities\, states\, and countries to celebrate the Ladino language and culture around the globe. In Israel\, throughout Europe\, in cities in South America including Buenos Aires and Sao Paolo\, as well as in the United States\, in New York\, Dallas\, Los Angeles as well as Seattle\, the Day will be celebrated far and wide.
URL:https://jewishstudies.washington.edu/event/international-ladino-day/
CATEGORIES:Sephardic Studies
ATTACH;FMTTYPE=image/jpeg:https://jewishstudies.washington.edu/wp-content/uploads/2014/08/Crowd.jpg
END:VEVENT
END:VCALENDAR