BEGIN:VCALENDAR
VERSION:2.0
PRODID:-//UW Stroum Center for Jewish Studies - ECPv6.15.17.1//NONSGML v1.0//EN
CALSCALE:GREGORIAN
METHOD:PUBLISH
X-WR-CALNAME:UW Stroum Center for Jewish Studies
X-ORIGINAL-URL:https://jewishstudies.washington.edu
X-WR-CALDESC:Events for UW Stroum Center for Jewish Studies
REFRESH-INTERVAL;VALUE=DURATION:PT1H
X-Robots-Tag:noindex
X-PUBLISHED-TTL:PT1H
BEGIN:VTIMEZONE
TZID:America/Los_Angeles
BEGIN:DAYLIGHT
TZOFFSETFROM:-0800
TZOFFSETTO:-0700
TZNAME:PDT
DTSTART:20130310T100000
END:DAYLIGHT
BEGIN:STANDARD
TZOFFSETFROM:-0700
TZOFFSETTO:-0800
TZNAME:PST
DTSTART:20131103T090000
END:STANDARD
BEGIN:DAYLIGHT
TZOFFSETFROM:-0800
TZOFFSETTO:-0700
TZNAME:PDT
DTSTART:20140309T100000
END:DAYLIGHT
BEGIN:STANDARD
TZOFFSETFROM:-0700
TZOFFSETTO:-0800
TZNAME:PST
DTSTART:20141102T090000
END:STANDARD
BEGIN:DAYLIGHT
TZOFFSETFROM:-0800
TZOFFSETTO:-0700
TZNAME:PDT
DTSTART:20150308T100000
END:DAYLIGHT
BEGIN:STANDARD
TZOFFSETFROM:-0700
TZOFFSETTO:-0800
TZNAME:PST
DTSTART:20151101T090000
END:STANDARD
END:VTIMEZONE
BEGIN:VEVENT
DTSTART;TZID=America/Los_Angeles:20140424T193000
DTEND;TZID=America/Los_Angeles:20140424T213000
DTSTAMP:20260425T082323
CREATED:20130712T185053Z
LAST-MODIFIED:20250917T161100Z
UID:8130-1398367800-1398375000@jewishstudies.washington.edu
SUMMARY:Cántame una romansa: Memory\, Family History\, and Sephardic Ballads in Seattle
DESCRIPTION:  \n\nDr. Rina Benmayor\, Professor of Oral History\, Latina/o Studies\, & Literature \nIn 1973\, Rina Benmayor came to Seattle to record Judeo-Spanish ballads (romansas) in the Sephardic community for her doctoral dissertation. She was following in the footsteps of her mentors\, Samuel Armistead and Joseph Silverman\, to collect\, preserve\, and analyze these precious living remnants of centuries past. It was an experience vividly etched in her memory. Now\, in a special lecture to mark forty years since her initial research project\, Dr. Benmayor reflects on that experience\, on how we remember\, and why we capture the past. Her presentation on April 24th will include the voices and images of elderly members of the Sephardic community in the 1970s\, as well as reflections from later explorations of her own family history. \nRead a new blog profile of Rina Benmayor\, including musical samples of Sephardic ballads\, plus links to oral histories of Seattle’s Sephardic community!\nRina Benmayor is Professor of oral history\, literature\, and Latina/o studies at California State University Monterey Bay. She has a Ph.D. from UC Berkeley in Romance Languages and Literatures with an emphasis in Spanish literature.  She has taught at Stanford\, Hunter College (CUNY)\, and is founding faculty at CSU Monterey Bay. At CSUMB\, she teaches oral history\, digital life storytelling\, and narrative literature\, and directs an oral history archive.  Her first book was a collection of Judeo-Spanish ballads collected in Los Angeles and Seattle\, titled Romances judeo-españoles en la costa occidental de los Estados Unidos (Gredos\, 1979). Later books include Migration and Identity (OUP 1994)\, Latino Cultural Citizenship (Beacon\, 1997)\, Telling to Live: Latina Feminist Testimonios (Duke 2001). She has served as president of the Oral History Association (2010-11)\, and the International Oral History Association (2004-06).  She is currently directing a multi-year oral history project on Salinas Chinatown\, funded through the National Endowment for the Humanities and Cal Humanities\, and is writing a family memoir based on genealogical research in the United States and ancestral Sephardic communities in northern Greece. \nThis event is free and open to the public. Tickets may be reserved here: \n \nEvent management for ‘Cántame una cantiga/Sing me a song’: Collecting Sephardic Ballads in Seattle\, 1973 powered by Eventbrite\nWe thank our co-sponsors for this event: the Division of Spanish and Portuguese Studies and the Turkish and Ottoman Studies Program in the Department of Near Eastern Languages and Civilization at the University of Washington.
URL:https://jewishstudies.washington.edu/event/cantame-una-romansa-sephardic-ballads-in-seattle/
CATEGORIES:Sephardic Studies
ATTACH;FMTTYPE=image/jpeg:https://jewishstudies.washington.edu/wp-content/uploads/2013/07/Poster-Rina-Benmayor-April-24-Lecture-on-Sephardic-Ballads.jpg
END:VEVENT
END:VCALENDAR