BEGIN:VCALENDAR
VERSION:2.0
PRODID:-//UW Stroum Center for Jewish Studies - ECPv6.15.17.1//NONSGML v1.0//EN
CALSCALE:GREGORIAN
METHOD:PUBLISH
X-ORIGINAL-URL:https://jewishstudies.washington.edu
X-WR-CALDESC:Events for UW Stroum Center for Jewish Studies
REFRESH-INTERVAL;VALUE=DURATION:PT1H
X-Robots-Tag:noindex
X-PUBLISHED-TTL:PT1H
BEGIN:VTIMEZONE
TZID:America/Los_Angeles
BEGIN:DAYLIGHT
TZOFFSETFROM:-0800
TZOFFSETTO:-0700
TZNAME:PDT
DTSTART:20120311T100000
END:DAYLIGHT
BEGIN:STANDARD
TZOFFSETFROM:-0700
TZOFFSETTO:-0800
TZNAME:PST
DTSTART:20121104T090000
END:STANDARD
BEGIN:DAYLIGHT
TZOFFSETFROM:-0800
TZOFFSETTO:-0700
TZNAME:PDT
DTSTART:20130310T100000
END:DAYLIGHT
BEGIN:STANDARD
TZOFFSETFROM:-0700
TZOFFSETTO:-0800
TZNAME:PST
DTSTART:20131103T090000
END:STANDARD
BEGIN:DAYLIGHT
TZOFFSETFROM:-0800
TZOFFSETTO:-0700
TZNAME:PDT
DTSTART:20140309T100000
END:DAYLIGHT
BEGIN:STANDARD
TZOFFSETFROM:-0700
TZOFFSETTO:-0800
TZNAME:PST
DTSTART:20141102T090000
END:STANDARD
END:VTIMEZONE
BEGIN:VEVENT
DTSTART;TZID=America/Los_Angeles:20130328T150000
DTEND;TZID=America/Los_Angeles:20130328T170000
DTSTAMP:20260425T153943
CREATED:20130322T031659Z
LAST-MODIFIED:20170831T230557Z
UID:7309-1364482800-1364490000@jewishstudies.washington.edu
SUMMARY:Lecture by Andree Aelion Brooks: The Incredible Life of Dona Gracia Nasi
DESCRIPTION:Noted author\, journalist\, and lecturer Andree Aelion Brooks will discuss the life of a Renaissance Jewish woman named Dona Gracia Nasi. Event is free and open to the public. \nSponsored by the Division of Spanish and Portuguese Studies at UW\, with the generous assistance of Congregation Ezra Bessaroth\, the Honorary Consulate of Spain\, the Instituto Cervantes Seattle\, and the Stroum Jewish Studies Program.
URL:https://jewishstudies.washington.edu/event/lecture-by-andree-aelion-brooks-the-incredible-life-of-dona-gracia-nasi/
CATEGORIES:Sephardic Studies
ATTACH;FMTTYPE=image/jpeg:https://jewishstudies.washington.edu/wp-content/uploads/2013/03/2-Dona-Gracia-flyer-2014.jpg
END:VEVENT
END:VCALENDAR