BEGIN:VCALENDAR
VERSION:2.0
PRODID:-//UW Stroum Center for Jewish Studies - ECPv6.15.17.1//NONSGML v1.0//EN
CALSCALE:GREGORIAN
METHOD:PUBLISH
X-WR-CALNAME:UW Stroum Center for Jewish Studies
X-ORIGINAL-URL:https://jewishstudies.washington.edu
X-WR-CALDESC:Events for UW Stroum Center for Jewish Studies
REFRESH-INTERVAL;VALUE=DURATION:PT1H
X-Robots-Tag:noindex
X-PUBLISHED-TTL:PT1H
BEGIN:VTIMEZONE
TZID:America/Los_Angeles
BEGIN:DAYLIGHT
TZOFFSETFROM:-0800
TZOFFSETTO:-0700
TZNAME:PDT
DTSTART:20180311T100000
END:DAYLIGHT
BEGIN:STANDARD
TZOFFSETFROM:-0700
TZOFFSETTO:-0800
TZNAME:PST
DTSTART:20181104T090000
END:STANDARD
BEGIN:DAYLIGHT
TZOFFSETFROM:-0800
TZOFFSETTO:-0700
TZNAME:PDT
DTSTART:20190310T100000
END:DAYLIGHT
BEGIN:STANDARD
TZOFFSETFROM:-0700
TZOFFSETTO:-0800
TZNAME:PST
DTSTART:20191103T090000
END:STANDARD
BEGIN:DAYLIGHT
TZOFFSETFROM:-0800
TZOFFSETTO:-0700
TZNAME:PDT
DTSTART:20200308T100000
END:DAYLIGHT
BEGIN:STANDARD
TZOFFSETFROM:-0700
TZOFFSETTO:-0800
TZNAME:PST
DTSTART:20201101T090000
END:STANDARD
END:VTIMEZONE
BEGIN:VEVENT
DTSTART;TZID=America/Los_Angeles:20190206T180000
DTEND;TZID=America/Los_Angeles:20190206T193000
DTSTAMP:20260422T045219
CREATED:20180921T214955Z
LAST-MODIFIED:20190126T015656Z
UID:30203-1549476000-1549481400@jewishstudies.washington.edu
SUMMARY:STUDENT EVENT: Reading Group for "The Best Place on Earth"
DESCRIPTION:In advance of author Ayelet Tsabari‘s upcoming visit to the UW\, undergrads are invited to discuss Tsabari’s 2013 novel\, “The Best Place on Earth\,” with Professor Sasha Senderovich. \nA complimentary copy of the book will be provided in advance to students who RSVP. \nVegetarian dinner provided. \nPlease RSVP for location and to reserve a copy of the book. \n\n\n\nAbout the speaker\n\nAyelet Tsabari\, who now lives and teaches Creative Writing in Toronto\, was born in Israel to a large family of Yemeni descent. Her first book\, “The Best Place on Earth\,” won the Sami Rohr Prize for Jewish Literature and the Edward Lewis Wallant Award and was longlisted to the Frank O’Connor International Short StoryAward.\n\n\nNote that Tsabari will also be speaking at the UW on February 28\, 2019. Tickets are free and all are welcome.\n  \n\nTo request disability accommodation\, contact the Disability Services Office at 206-543-6450 (voice)\, 206-543-6452 (TTY)\, 206-685-7264 (fax)\, or dso@uw.edu. The University of Washington makes every effort to honor disability accommodation requests. Requests can be responded to most effectively if received as far in advance of the event as possible\, preferably at least 10 days.
URL:https://jewishstudies.washington.edu/event/student-reading-group/
LOCATION:RSVP for location
CATEGORIES:Student
ATTACH;FMTTYPE=image/jpeg:https://jewishstudies.washington.edu/wp-content/uploads/2018/08/The-Best-Place-on-Earth.jpeg
END:VEVENT
END:VCALENDAR